BEGIN:VCALENDAR
VERSION:2.0
PRODID:-//Ultima Online - ECPv5.16.4.1//NONSGML v1.0//EN
CALSCALE:GREGORIAN
METHOD:PUBLISH
X-WR-CALNAME:Ultima Online
X-ORIGINAL-URL:https://uo.com
X-WR-CALDESC:Events for Ultima Online
BEGIN:VTIMEZONE
TZID:America/New_York
BEGIN:DAYLIGHT
TZOFFSETFROM:-0500
TZOFFSETTO:-0400
TZNAME:EDT
DTSTART:20160313T070000
END:DAYLIGHT
BEGIN:STANDARD
TZOFFSETFROM:-0400
TZOFFSETTO:-0500
TZNAME:EST
DTSTART:20161106T060000
END:STANDARD
TZID:Europe/London
BEGIN:DAYLIGHT
TZOFFSETFROM:+0000
TZOFFSETTO:+0100
TZNAME:BST
DTSTART:20160327T010000
END:DAYLIGHT
BEGIN:STANDARD
TZOFFSETFROM:+0100
TZOFFSETTO:+0000
TZNAME:GMT
DTSTART:20161030T010000
END:STANDARD
END:VTIMEZONE
BEGIN:VEVENT
DTSTART;TZID=America/New_York:20161208T200000
DTEND;TZID=America/New_York:20161208T201500
DTSTAMP:20260422T213505
CREATED:20161204T151831Z
LAST-MODIFIED:20161208T040122Z
UID:12364-1481227200-1481228100@uo.com
SUMMARY:Legends - Missing: Dom the Cat [Postponed]
DESCRIPTION:This event is being postponed until next week\, sorry for any inconvenience! \nOn Thursday\, December 8th at 8:00 PM EST\, meet at Castle Blackthorn for a brief announcement from Heckles the Jester. \nNote: This event will be very brief\, and is only to introduce a 2-week long self-paced investigation style event. There will not be any combat.
URL:https://uo.com/event/legends-missing-dom-the-cat-investigation-event/
LOCATION:Legends
CATEGORIES:EM Event
END:VEVENT
BEGIN:VEVENT
DTSTART;TZID=Europe/London:20161208T203000
DTEND;TZID=Europe/London:20161208T213000
DTSTAMP:20260422T213505
CREATED:20161121T163647Z
LAST-MODIFIED:20161121T163647Z
UID:12255-1481229000-1481232600@uo.com
SUMMARY:Europa - PvP Event: Fear The Grinch!
DESCRIPTION:Who stole the Mad King’s presents? a weird and green creature was really bad this year!!! Save the Mad King’s Xmas\, be ready to fight! Felucca Event\, double check your insurance! Meeting point at 8.30 pm UK time at EM HALL\, gates will be also provided at WBB Fel Facet for Reds!!!
URL:https://uo.com/event/europa-pvp-event-fear-the-grinch/
CATEGORIES:EM Event
END:VEVENT
END:VCALENDAR