BEGIN:VCALENDAR
VERSION:2.0
PRODID:-//Ultima Online - ECPv5.16.4.1//NONSGML v1.0//EN
CALSCALE:GREGORIAN
METHOD:PUBLISH
X-WR-CALNAME:Ultima Online
X-ORIGINAL-URL:https://uo.com
X-WR-CALDESC:Events for Ultima Online
BEGIN:VTIMEZONE
TZID:America/Los_Angeles
BEGIN:DAYLIGHT
TZOFFSETFROM:-0800
TZOFFSETTO:-0700
TZNAME:PDT
DTSTART:20160313T100000
END:DAYLIGHT
BEGIN:STANDARD
TZOFFSETFROM:-0700
TZOFFSETTO:-0800
TZNAME:PST
DTSTART:20161106T090000
END:STANDARD
TZID:Asia/Tokyo
BEGIN:STANDARD
TZOFFSETFROM:+0900
TZOFFSETTO:+0900
TZNAME:JST
DTSTART:20160101T000000
END:STANDARD
END:VTIMEZONE
BEGIN:VEVENT
DTSTART;TZID=America/Los_Angeles:20161216T190000
DTEND;TZID=America/Los_Angeles:20161216T200000
DTSTAMP:20260422T213631
CREATED:20161211T051308Z
LAST-MODIFIED:20161211T051308Z
UID:12406-1481914800-1481918400@uo.com
SUMMARY:Baja - The Hunt For Baba Yaga
DESCRIPTION:EM Durza will be visiting Baja with his tale of terror this week! \nLord Tremaine needs your assistance in locating Britannia’s missing children that have been kidnapped by the mysterious Baba Yaga!
URL:https://uo.com/event/baja-the-hunt-for-baba-yaga/
LOCATION:Meet At Counselor Hall
CATEGORIES:EM Event
END:VEVENT
BEGIN:VEVENT
DTSTART;TZID=Asia/Tokyo:20161216T220000
DTEND;TZID=Asia/Tokyo:20161216T220000
DTSTAMP:20260422T213631
CREATED:20161107T124230Z
LAST-MODIFIED:20161107T124230Z
UID:11883-1481925600-1481925600@uo.com
SUMMARY:Mizuho - Event
DESCRIPTION:TBD
URL:https://uo.com/event/mizuho-event-2/
LOCATION:TBD
CATEGORIES:EM Event
END:VEVENT
END:VCALENDAR