BEGIN:VCALENDAR
VERSION:2.0
PRODID:-//Ultima Online - ECPv5.16.4.1//NONSGML v1.0//EN
CALSCALE:GREGORIAN
METHOD:PUBLISH
X-WR-CALNAME:Ultima Online
X-ORIGINAL-URL:https://uo.com
X-WR-CALDESC:Events for Ultima Online
BEGIN:VTIMEZONE
TZID:America/New_York
BEGIN:DAYLIGHT
TZOFFSETFROM:-0500
TZOFFSETTO:-0400
TZNAME:EDT
DTSTART:20160313T070000
END:DAYLIGHT
BEGIN:STANDARD
TZOFFSETFROM:-0400
TZOFFSETTO:-0500
TZNAME:EST
DTSTART:20161106T060000
END:STANDARD
END:VTIMEZONE
BEGIN:VEVENT
DTSTART;TZID=America/New_York:20161219T190000
DTEND;TZID=America/New_York:20161219T210000
DTSTAMP:20260422T213636
CREATED:20161211T002830Z
LAST-MODIFIED:20161212T194632Z
UID:12403-1482174000-1482181200@uo.com
SUMMARY:Catskills - Holiday Hijinks
DESCRIPTION:Adventurers to gather in Moonglow! \nGates opening from Luna.
URL:https://uo.com/event/holiday-hijinks/
LOCATION:Catskills
CATEGORIES:EM Event
END:VEVENT
END:VCALENDAR