BEGIN:VCALENDAR
VERSION:2.0
PRODID:-//Ultima Online - ECPv5.16.4.1//NONSGML v1.0//EN
CALSCALE:GREGORIAN
METHOD:PUBLISH
X-WR-CALNAME:Ultima Online
X-ORIGINAL-URL:https://uo.com
X-WR-CALDESC:Events for Ultima Online
BEGIN:VTIMEZONE
TZID:America/New_York
BEGIN:DAYLIGHT
TZOFFSETFROM:-0500
TZOFFSETTO:-0400
TZNAME:EDT
DTSTART:20160313T070000
END:DAYLIGHT
BEGIN:STANDARD
TZOFFSETFROM:-0400
TZOFFSETTO:-0500
TZNAME:EST
DTSTART:20161106T060000
END:STANDARD
TZID:America/Los_Angeles
BEGIN:DAYLIGHT
TZOFFSETFROM:-0800
TZOFFSETTO:-0700
TZNAME:PDT
DTSTART:20160313T100000
END:DAYLIGHT
BEGIN:STANDARD
TZOFFSETFROM:-0700
TZOFFSETTO:-0800
TZNAME:PST
DTSTART:20161106T090000
END:STANDARD
TZID:Asia/Tokyo
BEGIN:STANDARD
TZOFFSETFROM:+0900
TZOFFSETTO:+0900
TZNAME:JST
DTSTART:20160101T000000
END:STANDARD
END:VTIMEZONE
BEGIN:VEVENT
DTSTART;TZID=America/New_York:20161222T070000
DTEND;TZID=America/New_York:20161222T210000
DTSTAMP:20260422T213758
CREATED:20161212T200037Z
LAST-MODIFIED:20161212T200037Z
UID:12422-1482390000-1482440400@uo.com
SUMMARY:Catskills - Governors Meeting
DESCRIPTION:Governors to meet at Castle Blackthorn!
URL:https://uo.com/event/catskills-governors-meeting-6/
LOCATION:Catskills
CATEGORIES:EM Event
END:VEVENT
BEGIN:VEVENT
DTSTART;TZID=America/Los_Angeles:20161222T190000
DTEND;TZID=America/Los_Angeles:20161222T200000
DTSTAMP:20260422T213758
CREATED:20161211T114707Z
LAST-MODIFIED:20161211T114707Z
UID:12409-1482433200-1482436800@uo.com
SUMMARY:*Pacific* - Kings Meeting
DESCRIPTION:
URL:https://uo.com/event/pacific-kings-meeting-7/
LOCATION:Castle Blackthorn Governors Hall
CATEGORIES:EM Event
END:VEVENT
BEGIN:VEVENT
DTSTART;TZID=America/New_York:20161222T200000
DTEND;TZID=America/New_York:20161222T210000
DTSTAMP:20260422T213758
CREATED:20161204T151957Z
LAST-MODIFIED:20161204T152723Z
UID:12366-1482436800-1482440400@uo.com
SUMMARY:Legends - Dom's Christmas Special
DESCRIPTION:On Thursday\, December 22nd at 8:00 PM EST\, the investigation into Dom’s whereabouts will be concluded.
URL:https://uo.com/event/legends-doms-christmas-special/
LOCATION:Legends
CATEGORIES:EM Event
END:VEVENT
BEGIN:VEVENT
DTSTART;TZID=Asia/Tokyo:20161222T220000
DTEND;TZID=Asia/Tokyo:20161222T220000
DTSTAMP:20260422T213758
CREATED:20161107T124504Z
LAST-MODIFIED:20161215T154709Z
UID:11886-1482444000-1482444000@uo.com
SUMMARY:Yamato - Desperately Seeking Santa
DESCRIPTION:Rudolph the reindeer asks players to seek Santa and 8 reindeers who have disappeared one after another. Rudolph says reindeers might have entered Britannia through the virtue shrines\, there must be some clues left showing their whereabouts. \nEM Moongate will be placed to the event location from Nujel’m EM hall. Nujel’m EM hall is accessible from the gate at the West side of WBB. \nSee you all there!
URL:https://uo.com/event/yamato-desperately-seeking-santa/
LOCATION:TBD
CATEGORIES:EM Event
END:VEVENT
BEGIN:VEVENT
DTSTART;TZID=America/New_York:20161222T220000
DTEND;TZID=America/New_York:20161222T230000
DTSTAMP:20260422T213758
CREATED:20161201T235537Z
LAST-MODIFIED:20161201T235537Z
UID:12338-1482444000-1482447600@uo.com
SUMMARY:Sonoma - EM Event: Lights and Reindeer
DESCRIPTION:Citizens of Britannia are called to Serpent’s Hold on Thursday\, Dec 22nd @ 7pm PST (10pm EST) for a festive event. Come prepared to fight some baddies\, and bring your quickest horse for a holiday themed scavenger hunt.
URL:https://uo.com/event/sonoma-em-event-lights-and-reindeer/
CATEGORIES:EM Event
END:VEVENT
END:VCALENDAR