BEGIN:VCALENDAR
VERSION:2.0
PRODID:-//Ultima Online - ECPv5.16.4.1//NONSGML v1.0//EN
CALSCALE:GREGORIAN
METHOD:PUBLISH
X-WR-CALNAME:Ultima Online
X-ORIGINAL-URL:https://uo.com
X-WR-CALDESC:Events for Ultima Online
BEGIN:VTIMEZONE
TZID:America/Los_Angeles
BEGIN:DAYLIGHT
TZOFFSETFROM:-0800
TZOFFSETTO:-0700
TZNAME:PDT
DTSTART:20160313T100000
END:DAYLIGHT
BEGIN:STANDARD
TZOFFSETFROM:-0700
TZOFFSETTO:-0800
TZNAME:PST
DTSTART:20161106T090000
END:STANDARD
TZID:Asia/Tokyo
BEGIN:STANDARD
TZOFFSETFROM:+0900
TZOFFSETTO:+0900
TZNAME:JST
DTSTART:20160101T000000
END:STANDARD
END:VTIMEZONE
BEGIN:VEVENT
DTSTART;TZID=America/Los_Angeles:20161223T190000
DTEND;TZID=America/Los_Angeles:20161223T200000
DTSTAMP:20260422T213631
CREATED:20161207T040525Z
LAST-MODIFIED:20161207T040525Z
UID:12377-1482519600-1482523200@uo.com
SUMMARY:Origin ~ The Land of Misfits *Felucca*
DESCRIPTION:
URL:https://uo.com/event/origin-the-land-of-misfits-felucca/
CATEGORIES:EM Event
END:VEVENT
BEGIN:VEVENT
DTSTART;TZID=Asia/Tokyo:20161223T220000
DTEND;TZID=Asia/Tokyo:20161223T230000
DTSTAMP:20260422T213631
CREATED:20161124T115654Z
LAST-MODIFIED:20161124T115654Z
UID:12262-1482530400-1482534000@uo.com
SUMMARY:Hokuto-Event
DESCRIPTION:The details\, please look at the web site on Hokuto.
URL:https://uo.com/event/hokuto-event-4/
LOCATION:Hokuto
CATEGORIES:EM Event
END:VEVENT
END:VCALENDAR