BEGIN:VCALENDAR
VERSION:2.0
PRODID:-//Ultima Online - ECPv5.16.4.1//NONSGML v1.0//EN
CALSCALE:GREGORIAN
METHOD:PUBLISH
X-WR-CALNAME:Ultima Online
X-ORIGINAL-URL:https://uo.com
X-WR-CALDESC:Events for Ultima Online
BEGIN:VTIMEZONE
TZID:America/Los_Angeles
BEGIN:DAYLIGHT
TZOFFSETFROM:-0800
TZOFFSETTO:-0700
TZNAME:PDT
DTSTART:20160313T100000
END:DAYLIGHT
BEGIN:STANDARD
TZOFFSETFROM:-0700
TZOFFSETTO:-0800
TZNAME:PST
DTSTART:20161106T090000
END:STANDARD
TZID:Europe/London
BEGIN:DAYLIGHT
TZOFFSETFROM:+0000
TZOFFSETTO:+0100
TZNAME:BST
DTSTART:20160327T010000
END:DAYLIGHT
BEGIN:STANDARD
TZOFFSETFROM:+0100
TZOFFSETTO:+0000
TZNAME:GMT
DTSTART:20161030T010000
END:STANDARD
END:VTIMEZONE
BEGIN:VEVENT
DTSTART;TZID=America/Los_Angeles:20161229T190000
DTEND;TZID=America/Los_Angeles:20161229T200000
DTSTAMP:20260422T195642
CREATED:20161211T114925Z
LAST-MODIFIED:20161211T114925Z
UID:12411-1483038000-1483041600@uo.com
SUMMARY:*Pacific* - A Single Starlight
DESCRIPTION:
URL:https://uo.com/event/pacific-a-single-starlight/
LOCATION:Castle Blackthorn Courtyard
CATEGORIES:EM Event
END:VEVENT
BEGIN:VEVENT
DTSTART;TZID=Europe/London:20161229T203000
DTEND;TZID=Europe/London:20161229T213000
DTSTAMP:20260422T195642
CREATED:20161213T004452Z
LAST-MODIFIED:20161213T004452Z
UID:12430-1483043400-1483047000@uo.com
SUMMARY:Europa ^ Auld Lang Syne
DESCRIPTION:
URL:https://uo.com/event/europa-auld-lang-syne/
LOCATION:EM Counselor Hall (Britain)
CATEGORIES:EM Event
END:VEVENT
END:VCALENDAR