BEGIN:VCALENDAR
VERSION:2.0
PRODID:-//Ultima Online - ECPv5.16.4.1//NONSGML v1.0//EN
CALSCALE:GREGORIAN
METHOD:PUBLISH
X-WR-CALNAME:Ultima Online
X-ORIGINAL-URL:https://uo.com
X-WR-CALDESC:Events for Ultima Online
BEGIN:VTIMEZONE
TZID:Europe/Berlin
BEGIN:DAYLIGHT
TZOFFSETFROM:+0100
TZOFFSETTO:+0200
TZNAME:CEST
DTSTART:20170326T010000
END:DAYLIGHT
BEGIN:STANDARD
TZOFFSETFROM:+0200
TZOFFSETTO:+0100
TZNAME:CET
DTSTART:20171029T010000
END:STANDARD
TZID:Europe/London
BEGIN:DAYLIGHT
TZOFFSETFROM:+0000
TZOFFSETTO:+0100
TZNAME:BST
DTSTART:20170326T010000
END:DAYLIGHT
BEGIN:STANDARD
TZOFFSETFROM:+0100
TZOFFSETTO:+0000
TZNAME:GMT
DTSTART:20171029T010000
END:STANDARD
TZID:Asia/Tokyo
BEGIN:STANDARD
TZOFFSETFROM:+0900
TZOFFSETTO:+0900
TZNAME:JST
DTSTART:20170101T000000
END:STANDARD
TZID:America/New_York
BEGIN:DAYLIGHT
TZOFFSETFROM:-0500
TZOFFSETTO:-0400
TZNAME:EDT
DTSTART:20170312T070000
END:DAYLIGHT
BEGIN:STANDARD
TZOFFSETFROM:-0400
TZOFFSETTO:-0500
TZNAME:EST
DTSTART:20171105T060000
END:STANDARD
END:VTIMEZONE
BEGIN:VEVENT
DTSTART;TZID=Europe/Berlin:20170108T203000
DTEND;TZID=Europe/Berlin:20170108T213000
DTSTAMP:20260422T195333
CREATED:20170102T201052Z
LAST-MODIFIED:20170102T201052Z
UID:12549-1483907400-1483911000@uo.com
SUMMARY:Drachenfels: House Decoration Contest | Haus Deko Wettbewerb
DESCRIPTION:Time: 8:30pm CET (UTC+1). Location: Counselor’s Hall\, Britain\, Trammel.\nHouse Decoration Contest – everything new for the New Year! Explanation of the theme\, rules\, question rounds and opening signal for the contest. \nZeit: 20:30 Uhr CET (UTC+1). Ort: Counselor’s Hall\, Britain\, Trammel.\nHaus Dekorations Wettbewerb – alles neu macht das Jahr! Erklärung des Themas\, Regeln\, Fragerunde und Startschuss zum Wettbewerb.
URL:https://uo.com/event/drachenfels-house-decoration-contest-haus-deko-wettbewerb-2/
LOCATION:Drachenfels
CATEGORIES:EM Event
END:VEVENT
BEGIN:VEVENT
DTSTART;TZID=Europe/London:20170108T203000
DTEND;TZID=Europe/London:20170108T213000
DTSTAMP:20260422T195333
CREATED:20170104T163312Z
LAST-MODIFIED:20170104T163312Z
UID:12557-1483907400-1483911000@uo.com
SUMMARY:Europa ^ Mix\, Mingle\, Mob!
DESCRIPTION:
URL:https://uo.com/event/europa-mix-mingle-mob-5/
LOCATION:EM Counselor Hall (Britain)
CATEGORIES:EM Event
END:VEVENT
BEGIN:VEVENT
DTSTART;TZID=Asia/Tokyo:20170108T220000
DTEND;TZID=Asia/Tokyo:20170108T220000
DTSTAMP:20260422T195333
CREATED:20161107T130736Z
LAST-MODIFIED:20170104T134641Z
UID:11900-1483912800-1483912800@uo.com
SUMMARY:Yamato - The Council Meeting with the King
DESCRIPTION:The King invites all Governors and Citizens to the Council Meeting.\n*Please note this meeting requires everyone is “in-character”\, and thus roleplay is expected of all who attend.
URL:https://uo.com/event/yamato-the-council-meeting-with-the-king-12/
LOCATION:Blackthorn Castle
CATEGORIES:EM Event
END:VEVENT
BEGIN:VEVENT
DTSTART;TZID=America/New_York:20170108T220000
DTEND;TZID=America/New_York:20170108T230000
DTSTAMP:20260422T195333
CREATED:20161202T001530Z
LAST-MODIFIED:20161216T132211Z
UID:12344-1483912800-1483916400@uo.com
SUMMARY:Sonoma: Governors Meeting
DESCRIPTION:King Blackthorn requests the presence of governors and citizens to the monthly governors meeting on Sunday\, January 8th at 7pm PST (10pm EST) held in Blackthorn Castle. All are welcome to attend. Gates will be provided from Luna and Britain.
URL:https://uo.com/event/sonoma-governors-meeting-6/
CATEGORIES:EM Event
END:VEVENT
END:VCALENDAR