BEGIN:VCALENDAR
VERSION:2.0
PRODID:-//Ultima Online - ECPv5.16.4.1//NONSGML v1.0//EN
CALSCALE:GREGORIAN
METHOD:PUBLISH
X-WR-CALNAME:Ultima Online
X-ORIGINAL-URL:https://uo.com
X-WR-CALDESC:Events for Ultima Online
BEGIN:VTIMEZONE
TZID:America/Los_Angeles
BEGIN:DAYLIGHT
TZOFFSETFROM:-0800
TZOFFSETTO:-0700
TZNAME:PDT
DTSTART:20170312T100000
END:DAYLIGHT
BEGIN:STANDARD
TZOFFSETFROM:-0700
TZOFFSETTO:-0800
TZNAME:PST
DTSTART:20171105T090000
END:STANDARD
TZID:Asia/Taipei
BEGIN:STANDARD
TZOFFSETFROM:+0800
TZOFFSETTO:+0800
TZNAME:CST
DTSTART:20170101T000000
END:STANDARD
END:VTIMEZONE
BEGIN:VEVENT
DTSTART;TZID=America/Los_Angeles:20170113T190000
DTEND;TZID=America/Los_Angeles:20170113T200000
DTSTAMP:20260422T195518
CREATED:20170109T022256Z
LAST-MODIFIED:20170109T022256Z
UID:12576-1484334000-1484337600@uo.com
SUMMARY:Baja - January Governors Meeting
DESCRIPTION:All are invited to the January Governors Meet! If any wish to petition the King for a vacant seat\, please attend and express your interest to the King!
URL:https://uo.com/event/baja-january-governors-meeting/
LOCATION:Castle Blackthorn
CATEGORIES:EM Event
END:VEVENT
BEGIN:VEVENT
DTSTART;TZID=America/Los_Angeles:20170113T190000
DTEND;TZID=America/Los_Angeles:20170113T200000
DTSTAMP:20260422T195518
CREATED:20170109T185840Z
LAST-MODIFIED:20170109T185840Z
UID:12578-1484334000-1484337600@uo.com
SUMMARY:Origin ~ Old Style Dungeon Crawl! #22
DESCRIPTION:
URL:https://uo.com/event/origin-old-style-dungeon-crawl-22/
LOCATION:Luna Stables (meet at)
CATEGORIES:EM Event
END:VEVENT
BEGIN:VEVENT
DTSTART;TZID=Asia/Taipei:20170113T220000
DTEND;TZID=Asia/Taipei:20170113T230000
DTSTAMP:20260422T195518
CREATED:20170105T134854Z
LAST-MODIFIED:20170105T134854Z
UID:12560-1484344800-1484348400@uo.com
SUMMARY:Formosa EM Meet and Greet
DESCRIPTION:Greeting !!!! A one hour meet and greet session.
URL:https://uo.com/event/formosa-em-meet-and-greet/
LOCATION:Formosa Britain EM Hall
CATEGORIES:EM Event
END:VEVENT
END:VCALENDAR