BEGIN:VCALENDAR
VERSION:2.0
PRODID:-//Ultima Online - ECPv5.16.4.1//NONSGML v1.0//EN
CALSCALE:GREGORIAN
METHOD:PUBLISH
X-WR-CALNAME:Ultima Online
X-ORIGINAL-URL:https://uo.com
X-WR-CALDESC:Events for Ultima Online
BEGIN:VTIMEZONE
TZID:America/Los_Angeles
BEGIN:DAYLIGHT
TZOFFSETFROM:-0800
TZOFFSETTO:-0700
TZNAME:PDT
DTSTART:20170312T100000
END:DAYLIGHT
BEGIN:STANDARD
TZOFFSETFROM:-0700
TZOFFSETTO:-0800
TZNAME:PST
DTSTART:20171105T090000
END:STANDARD
TZID:Europe/Berlin
BEGIN:DAYLIGHT
TZOFFSETFROM:+0100
TZOFFSETTO:+0200
TZNAME:CEST
DTSTART:20170326T010000
END:DAYLIGHT
BEGIN:STANDARD
TZOFFSETFROM:+0200
TZOFFSETTO:+0100
TZNAME:CET
DTSTART:20171029T010000
END:STANDARD
TZID:America/New_York
BEGIN:DAYLIGHT
TZOFFSETFROM:-0500
TZOFFSETTO:-0400
TZNAME:EDT
DTSTART:20170312T070000
END:DAYLIGHT
BEGIN:STANDARD
TZOFFSETFROM:-0400
TZOFFSETTO:-0500
TZNAME:EST
DTSTART:20171105T060000
END:STANDARD
TZID:Asia/Tokyo
BEGIN:STANDARD
TZOFFSETFROM:+0900
TZOFFSETTO:+0900
TZNAME:JST
DTSTART:20170101T000000
END:STANDARD
END:VTIMEZONE
BEGIN:VEVENT
DTSTART;TZID=America/Los_Angeles:20170120T190000
DTEND;TZID=America/Los_Angeles:20170120T200000
DTSTAMP:20260422T195357
CREATED:20170111T031839Z
LAST-MODIFIED:20170111T031839Z
UID:12600-1484938800-1484942400@uo.com
SUMMARY:Baja - Shadowclan Sanctuary
DESCRIPTION:Jayce of Minoc needs your help with rescuing Glennys the Gypsy from the vile Shadowclan Orcs!
URL:https://uo.com/event/baja-shadowclan-sanctuary/
LOCATION:Meet At Counselor Hall
CATEGORIES:EM Event
END:VEVENT
BEGIN:VEVENT
DTSTART;TZID=Europe/Berlin:20170120T203000
DTEND;TZID=Europe/Berlin:20170120T213000
DTSTAMP:20260422T195357
CREATED:20161211T223253Z
LAST-MODIFIED:20170117T205154Z
UID:12415-1484944200-1484947800@uo.com
SUMMARY:Drachenfels: The Time of Humility | Die Zeit der Demut
DESCRIPTION:(Postponed event from December 18th\, 2016 – new date!)\nTime: 8:30pm CET (UTC+1).  Location: Counselor’s Hall\, Britain\, Trammel.\nMain Event: Lieutenant Gelbendil is a tough warrior\, but now\, at this time of the year\, he remembers “The Time of Humility”\, when everything is slowing down because of the cold\, the snow and the beautiful warm lights… except those monsters he saw on that one island… \n(Verschobener Event vom 18. Dezember 2016 – neues Datum!)\nZeit: 20:30 Uhr CET (UTC+1). Ort: Counselor’s Hall\, Britain\, Trammel.\nHauptevent: Lieutenant Gelbendil ist ein starker Krieger\, aber nun\, in dieser Zeit des Jahres\, erinnert er sich an “Die Zeit der Demut”\, wenn alles wegen der Kälte langsamer vonstatten geht\, der Schnee und die schönen warmen Lichter… ausgenommen diese Monster die er da auf dieser Insel sah…
URL:https://uo.com/event/drachenfels-the-time-of-humility-die-zeit-der-demut/
LOCATION:Drachenfels
CATEGORIES:EM Event
END:VEVENT
BEGIN:VEVENT
DTSTART;TZID=America/New_York:20170120T210000
DTEND;TZID=America/New_York:20170120T230000
DTSTAMP:20260422T195357
CREATED:20161216T132835Z
LAST-MODIFIED:20170118T183327Z
UID:12486-1484946000-1484953200@uo.com
SUMMARY:Sonoma: Town Hall and Paragon Dungeon Crawl
DESCRIPTION:Join us at the Hall of Commons for Sonoma’s monthly town hall @ 6pm PST followed by a paragon dungeon crawl at 7! Gates will be provided in Luna and Brit.
URL:https://uo.com/event/sonoma-town-hall-paragon-dungeon-crawl/
CATEGORIES:EM Event
END:VEVENT
BEGIN:VEVENT
DTSTART;TZID=Asia/Tokyo:20170120T220000
DTEND;TZID=Asia/Tokyo:20170120T220000
DTSTAMP:20260422T195357
CREATED:20161107T130059Z
LAST-MODIFIED:20161107T130059Z
UID:11892-1484949600-1484949600@uo.com
SUMMARY:Mizuho - The Council Meeting with the King
DESCRIPTION:Venue at Castle Blackthorn
URL:https://uo.com/event/mizuho-the-council-meeting-with-the-king-8/
LOCATION:Blackthorn Castle
CATEGORIES:EM Event
END:VEVENT
END:VCALENDAR