BEGIN:VCALENDAR
VERSION:2.0
PRODID:-//Ultima Online - ECPv5.16.4.1//NONSGML v1.0//EN
CALSCALE:GREGORIAN
METHOD:PUBLISH
X-WR-CALNAME:Ultima Online
X-ORIGINAL-URL:https://uo.com
X-WR-CALDESC:Events for Ultima Online
BEGIN:VTIMEZONE
TZID:Asia/Tokyo
BEGIN:STANDARD
TZOFFSETFROM:+0900
TZOFFSETTO:+0900
TZNAME:JST
DTSTART:20170101T000000
END:STANDARD
TZID:Europe/London
BEGIN:DAYLIGHT
TZOFFSETFROM:+0000
TZOFFSETTO:+0100
TZNAME:BST
DTSTART:20170326T010000
END:DAYLIGHT
BEGIN:STANDARD
TZOFFSETFROM:+0100
TZOFFSETTO:+0000
TZNAME:GMT
DTSTART:20171029T010000
END:STANDARD
TZID:Asia/Seoul
BEGIN:STANDARD
TZOFFSETFROM:+0900
TZOFFSETTO:+0900
TZNAME:KST
DTSTART:20170101T000000
END:STANDARD
END:VTIMEZONE
BEGIN:VEVENT
DTSTART;TZID=Asia/Tokyo:20170122T100000
DTEND;TZID=Asia/Tokyo:20170122T230000
DTSTAMP:20260422T195519
CREATED:20161124T115847Z
LAST-MODIFIED:20170117T170130Z
UID:12264-1485079200-1485126000@uo.com
SUMMARY:Hokuto-Mini Event
DESCRIPTION:The details\, please look at the web site on Hokuto.
URL:https://uo.com/event/hokuto-event-5/
LOCATION:Hokuto
CATEGORIES:EM Event
END:VEVENT
BEGIN:VEVENT
DTSTART;TZID=Europe/London:20170122T203000
DTEND;TZID=Europe/London:20170122T210000
DTSTAMP:20260422T195519
CREATED:20170119T162717Z
LAST-MODIFIED:20170119T162717Z
UID:12682-1485117000-1485118800@uo.com
SUMMARY:Europa ^ The Kings’ Gathering
DESCRIPTION:
URL:https://uo.com/event/europa-the-kings-gathering-2/
LOCATION:Blackthorn Castle meeting room
CATEGORIES:EM Event
ORGANIZER;CN="EM%20Kimmie":MAILTO:kimmie@uoem.net
END:VEVENT
BEGIN:VEVENT
DTSTART;TZID=Europe/London:20170122T210000
DTEND;TZID=Europe/London:20170122T220000
DTSTAMP:20260422T195519
CREATED:20170113T211837Z
LAST-MODIFIED:20170117T035551Z
UID:12642-1485118800-1485122400@uo.com
SUMMARY:Europa - The Demon of Trees
DESCRIPTION:Gather at 9 PM UK time at EM Hall
URL:https://uo.com/event/europa-the-demon-of-trees/
CATEGORIES:EM Event
END:VEVENT
BEGIN:VEVENT
DTSTART;TZID=Asia/Seoul:20170122T220000
DTEND;TZID=Asia/Seoul:20170122T230000
DTSTAMP:20260422T195519
CREATED:20170116T192739Z
LAST-MODIFIED:20170116T192739Z
UID:12663-1485122400-1485126000@uo.com
SUMMARY:Balhae Meet and Greet
DESCRIPTION:Meet and Greet with EM
URL:https://uo.com/event/balhae-meet-and-greet/
LOCATION:Balhae EM Britain Hall
CATEGORIES:EM Event
END:VEVENT
END:VCALENDAR