BEGIN:VCALENDAR
VERSION:2.0
PRODID:-//Ultima Online - ECPv5.16.4.1//NONSGML v1.0//EN
CALSCALE:GREGORIAN
METHOD:PUBLISH
X-WR-CALNAME:Ultima Online
X-ORIGINAL-URL:https://uo.com
X-WR-CALDESC:Events for Ultima Online
BEGIN:VTIMEZONE
TZID:America/Los_Angeles
BEGIN:DAYLIGHT
TZOFFSETFROM:-0800
TZOFFSETTO:-0700
TZNAME:PDT
DTSTART:20170312T100000
END:DAYLIGHT
BEGIN:STANDARD
TZOFFSETFROM:-0700
TZOFFSETTO:-0800
TZNAME:PST
DTSTART:20171105T090000
END:STANDARD
TZID:America/New_York
BEGIN:DAYLIGHT
TZOFFSETFROM:-0500
TZOFFSETTO:-0400
TZNAME:EDT
DTSTART:20170312T070000
END:DAYLIGHT
BEGIN:STANDARD
TZOFFSETFROM:-0400
TZOFFSETTO:-0500
TZNAME:EST
DTSTART:20171105T060000
END:STANDARD
TZID:Asia/Seoul
BEGIN:STANDARD
TZOFFSETFROM:+0900
TZOFFSETTO:+0900
TZNAME:KST
DTSTART:20170101T000000
END:STANDARD
END:VTIMEZONE
BEGIN:VEVENT
DTSTART;TZID=America/Los_Angeles:20170126T190000
DTEND;TZID=America/Los_Angeles:20170126T200000
DTSTAMP:20260422T195452
CREATED:20170113T223656Z
LAST-MODIFIED:20170113T223656Z
UID:12648-1485457200-1485460800@uo.com
SUMMARY:Pacific - Cleansing by Unity
DESCRIPTION:
URL:https://uo.com/event/pacific-cleansing-by-unity/
CATEGORIES:EM Event
END:VEVENT
BEGIN:VEVENT
DTSTART;TZID=America/New_York:20170126T200000
DTEND;TZID=America/New_York:20170126T210000
DTSTAMP:20260422T195452
CREATED:20170102T184207Z
LAST-MODIFIED:20170102T184207Z
UID:12536-1485460800-1485464400@uo.com
SUMMARY:Legends - Yew Investigation Part 2
DESCRIPTION:On Thursday\, January 26th at 8:00 PM EST\, meet in Castle Blackthorn to continue the Yew Investigations.
URL:https://uo.com/event/legends-yew-investigation-part-2/
LOCATION:Legends
CATEGORIES:EM Event
END:VEVENT
BEGIN:VEVENT
DTSTART;TZID=America/New_York:20170126T200000
DTEND;TZID=America/New_York:20170126T210000
DTSTAMP:20260422T195452
CREATED:20170111T043433Z
LAST-MODIFIED:20170111T043433Z
UID:12608-1485460800-1485464400@uo.com
SUMMARY:Atlantic - @ 8pm East\, Prime Standard
DESCRIPTION:
URL:https://uo.com/event/atlantic-8pm-east-prime-standard/
CATEGORIES:EM Event
END:VEVENT
BEGIN:VEVENT
DTSTART;TZID=Asia/Seoul:20170126T210000
DTEND;TZID=Asia/Seoul:20170126T230000
DTSTAMP:20260422T195452
CREATED:20170116T193239Z
LAST-MODIFIED:20170116T193239Z
UID:12667-1485464400-1485471600@uo.com
SUMMARY:Balhae Happy Seollal New Year
DESCRIPTION:Celebrating Lunar New Year in Balhae !
URL:https://uo.com/event/balhae-happy-seollal-new-year/
LOCATION:Balhae EM Britain Hall
CATEGORIES:EM Event
END:VEVENT
BEGIN:VEVENT
DTSTART;TZID=America/New_York:20170126T220000
DTEND;TZID=America/New_York:20170126T230000
DTSTAMP:20260422T195452
CREATED:20161216T133136Z
LAST-MODIFIED:20161216T133245Z
UID:12489-1485468000-1485471600@uo.com
SUMMARY:Sonoma EM Event: Alchemical Energy\, Part III: Antimatter
DESCRIPTION:Chimaera calls all citizens to arms in Serpent’s Hold on Thursday\, January 26th @ 7pm PST (10pm EST) to investigate antimatter that’s spread across the lands.
URL:https://uo.com/event/sonoma-em-event-alchemical-energy-part-iii-antimatter/
CATEGORIES:EM Event
END:VEVENT
END:VCALENDAR