BEGIN:VCALENDAR
VERSION:2.0
PRODID:-//Ultima Online - ECPv5.16.4.1//NONSGML v1.0//EN
CALSCALE:GREGORIAN
METHOD:PUBLISH
X-WR-CALNAME:Ultima Online
X-ORIGINAL-URL:https://uo.com
X-WR-CALDESC:Events for Ultima Online
BEGIN:VTIMEZONE
TZID:America/Los_Angeles
BEGIN:DAYLIGHT
TZOFFSETFROM:-0800
TZOFFSETTO:-0700
TZNAME:PDT
DTSTART:20170312T100000
END:DAYLIGHT
BEGIN:STANDARD
TZOFFSETFROM:-0700
TZOFFSETTO:-0800
TZNAME:PST
DTSTART:20171105T090000
END:STANDARD
TZID:America/Chicago
BEGIN:DAYLIGHT
TZOFFSETFROM:-0600
TZOFFSETTO:-0500
TZNAME:CDT
DTSTART:20170312T080000
END:DAYLIGHT
BEGIN:STANDARD
TZOFFSETFROM:-0500
TZOFFSETTO:-0600
TZNAME:CST
DTSTART:20171105T070000
END:STANDARD
TZID:Europe/Berlin
BEGIN:DAYLIGHT
TZOFFSETFROM:+0100
TZOFFSETTO:+0200
TZNAME:CEST
DTSTART:20170326T010000
END:DAYLIGHT
BEGIN:STANDARD
TZOFFSETFROM:+0200
TZOFFSETTO:+0100
TZNAME:CET
DTSTART:20171029T010000
END:STANDARD
END:VTIMEZONE
BEGIN:VEVENT
DTSTART;TZID=America/Los_Angeles:20170214T190000
DTEND;TZID=America/Los_Angeles:20170214T200000
DTSTAMP:20260422T181208
CREATED:20170207T153055Z
LAST-MODIFIED:20170207T153055Z
UID:12902-1487098800-1487102400@uo.com
SUMMARY:Origin ~ Hunt For Love
DESCRIPTION:
URL:https://uo.com/event/origin-hunt-for-love/
LOCATION:Luna Stables (meet at)
CATEGORIES:EM Event
END:VEVENT
BEGIN:VEVENT
DTSTART;TZID=America/Chicago:20170214T200000
DTEND;TZID=America/Chicago:20170214T200000
DTSTAMP:20260422T181208
CREATED:20170206T145559Z
LAST-MODIFIED:20170206T145559Z
UID:12880-1487102400-1487102400@uo.com
SUMMARY:Great Lakes - Pixie Patrol!
DESCRIPTION:Join the Pixie Patrol and prevent a panty raid!
URL:https://uo.com/event/great-lakes-pixie-patrol/
LOCATION:Great Lakes – Counselor Hall
CATEGORIES:EM Event
END:VEVENT
BEGIN:VEVENT
DTSTART;TZID=Europe/Berlin:20170214T203000
DTEND;TZID=Europe/Berlin:20170214T213000
DTSTAMP:20260422T181208
CREATED:20170203T115118Z
LAST-MODIFIED:20170203T115118Z
UID:12853-1487104200-1487107800@uo.com
SUMMARY:Drachenfels: A Hearty Party | Eine Herzliche Party
DESCRIPTION:Time: 8:30pm CET (UTC+1).  Location: Counselor’s Hall\, Britain\, Trammel.\nMain Event: Kalya Sesha needs help to prepare a “hearty party” at the Fairgrounds in Luna. Help her to get all the items she needs for it! \nZeit: 20:30 Uhr CET (UTC+1). Ort: Counselor’s Hall\, Britain\, Trammel.\nHauptevent: Kalya Sesha braucht Hilfe um eine “Herzliche Party” auf dem Festgelände in Luna zu organisieren. Helft ihr\, alle Gegenstände zu bekommen\, die sie dafür benötigt!
URL:https://uo.com/event/drachenfels-a-hearty-party-eine-herzliche-party/
LOCATION:Drachenfels
CATEGORIES:EM Event
END:VEVENT
END:VCALENDAR