BEGIN:VCALENDAR
VERSION:2.0
PRODID:-//Ultima Online - ECPv5.16.4.1//NONSGML v1.0//EN
CALSCALE:GREGORIAN
METHOD:PUBLISH
X-WR-CALNAME:Ultima Online
X-ORIGINAL-URL:https://uo.com
X-WR-CALDESC:Events for Ultima Online
BEGIN:VTIMEZONE
TZID:America/Los_Angeles
BEGIN:DAYLIGHT
TZOFFSETFROM:-0800
TZOFFSETTO:-0700
TZNAME:PDT
DTSTART:20170312T100000
END:DAYLIGHT
BEGIN:STANDARD
TZOFFSETFROM:-0700
TZOFFSETTO:-0800
TZNAME:PST
DTSTART:20171105T090000
END:STANDARD
TZID:America/New_York
BEGIN:DAYLIGHT
TZOFFSETFROM:-0500
TZOFFSETTO:-0400
TZNAME:EDT
DTSTART:20170312T070000
END:DAYLIGHT
BEGIN:STANDARD
TZOFFSETFROM:-0400
TZOFFSETTO:-0500
TZNAME:EST
DTSTART:20171105T060000
END:STANDARD
TZID:Asia/Tokyo
BEGIN:STANDARD
TZOFFSETFROM:+0900
TZOFFSETTO:+0900
TZNAME:JST
DTSTART:20170101T000000
END:STANDARD
END:VTIMEZONE
BEGIN:VEVENT
DTSTART;TZID=America/Los_Angeles:20170219T180000
DTEND;TZID=America/Los_Angeles:20170219T183000
DTSTAMP:20260422T181208
CREATED:20170214T050553Z
LAST-MODIFIED:20170214T050553Z
UID:13006-1487527200-1487529000@uo.com
SUMMARY:Origin ~ Meeting with King Blackthorn
DESCRIPTION:
URL:https://uo.com/event/origin-meeting-with-king-blackthorn-14/
LOCATION:Blackthorn Castle meeting room
CATEGORIES:EM Event
END:VEVENT
BEGIN:VEVENT
DTSTART;TZID=America/Los_Angeles:20170219T183000
DTEND;TZID=America/Los_Angeles:20170219T193000
DTSTAMP:20260422T181208
CREATED:20170214T051007Z
LAST-MODIFIED:20170214T051007Z
UID:13008-1487529000-1487532600@uo.com
SUMMARY:Origin ~ O.R.G. Boot Camp XVI (Winter Session II)
DESCRIPTION:
URL:https://uo.com/event/origin-o-r-g-boot-camp-xvi-winter-session-ii/
LOCATION:O.R.G. Training Grounds (Malas)
CATEGORIES:EM Event
END:VEVENT
BEGIN:VEVENT
DTSTART;TZID=America/New_York:20170219T200000
DTEND;TZID=America/New_York:20170219T210000
DTSTAMP:20260422T181208
CREATED:20170223T014649Z
LAST-MODIFIED:20170223T014649Z
UID:13059-1487534400-1487538000@uo.com
SUMMARY:Chesapeake Governor Meeting
DESCRIPTION:Monthly meeting for governors to gather at King Blackthorn’s castle. Governors will\, in turn\, advise the king on how their town is doing.  Citizens are encouraged to sit in the audience.
URL:https://uo.com/event/chesapeake-governor-meeting-2/
LOCATION:Blackthorn Castle meeting room
CATEGORIES:EM Event
END:VEVENT
BEGIN:VEVENT
DTSTART;TZID=Asia/Tokyo:20170219T220000
DTEND;TZID=Asia/Tokyo:20170219T220000
DTSTAMP:20260422T181208
CREATED:20170112T135136Z
LAST-MODIFIED:20170112T135136Z
UID:12628-1487541600-1487541600@uo.com
SUMMARY:Yamato - The Council Meeting with the King
DESCRIPTION:The King invites all Governors and Citizens to the Council Meeting.\n*Please note this meeting requires everyone is “in-character”\, and thus roleplay is expected of all who attend.
URL:https://uo.com/event/yamato-the-council-meeting-with-the-king-13/
LOCATION:Castle Blackthorn
CATEGORIES:EM Event
END:VEVENT
END:VCALENDAR