BEGIN:VCALENDAR
VERSION:2.0
PRODID:-//Ultima Online - ECPv5.16.4.1//NONSGML v1.0//EN
CALSCALE:GREGORIAN
METHOD:PUBLISH
X-WR-CALNAME:Ultima Online
X-ORIGINAL-URL:https://uo.com
X-WR-CALDESC:Events for Ultima Online
BEGIN:VTIMEZONE
TZID:America/Los_Angeles
BEGIN:DAYLIGHT
TZOFFSETFROM:-0800
TZOFFSETTO:-0700
TZNAME:PDT
DTSTART:20170312T100000
END:DAYLIGHT
BEGIN:STANDARD
TZOFFSETFROM:-0700
TZOFFSETTO:-0800
TZNAME:PST
DTSTART:20171105T090000
END:STANDARD
TZID:America/New_York
BEGIN:DAYLIGHT
TZOFFSETFROM:-0500
TZOFFSETTO:-0400
TZNAME:EDT
DTSTART:20170312T070000
END:DAYLIGHT
BEGIN:STANDARD
TZOFFSETFROM:-0400
TZOFFSETTO:-0500
TZNAME:EST
DTSTART:20171105T060000
END:STANDARD
TZID:Asia/Tokyo
BEGIN:STANDARD
TZOFFSETFROM:+0900
TZOFFSETTO:+0900
TZNAME:JST
DTSTART:20170101T000000
END:STANDARD
TZID:Europe/Berlin
BEGIN:DAYLIGHT
TZOFFSETFROM:+0100
TZOFFSETTO:+0200
TZNAME:CEST
DTSTART:20170326T010000
END:DAYLIGHT
BEGIN:STANDARD
TZOFFSETFROM:+0200
TZOFFSETTO:+0100
TZNAME:CET
DTSTART:20171029T010000
END:STANDARD
TZID:Europe/London
BEGIN:DAYLIGHT
TZOFFSETFROM:+0000
TZOFFSETTO:+0100
TZNAME:BST
DTSTART:20170326T010000
END:DAYLIGHT
BEGIN:STANDARD
TZOFFSETFROM:+0100
TZOFFSETTO:+0000
TZNAME:GMT
DTSTART:20171029T010000
END:STANDARD
TZID:Asia/Taipei
BEGIN:STANDARD
TZOFFSETFROM:+0800
TZOFFSETTO:+0800
TZNAME:CST
DTSTART:20170101T000000
END:STANDARD
END:VTIMEZONE
BEGIN:VEVENT
DTSTART;TZID=America/Los_Angeles:20170226T170000
DTEND;TZID=America/Los_Angeles:20170226T180000
DTSTAMP:20260422T182559
CREATED:20170208T043435Z
LAST-MODIFIED:20170208T043451Z
UID:12922-1488128400-1488132000@uo.com
SUMMARY:Napa Valley - 5pm PST (Governor's Meeting\, Castle Blackthorn)
DESCRIPTION:
URL:https://uo.com/event/napa-valley-7pm-pst-castle-blackthorn-3/
CATEGORIES:EM Event
END:VEVENT
BEGIN:VEVENT
DTSTART;TZID=America/New_York:20170226T190000
DTEND;TZID=America/New_York:20170226T210000
DTSTAMP:20260422T182559
CREATED:20170221T015407Z
LAST-MODIFIED:20170221T015407Z
UID:13048-1488135600-1488142800@uo.com
SUMMARY:Catskills - Governors Meeting
DESCRIPTION:Governors to meet at Castle Blackthorn!
URL:https://uo.com/event/catskills-governors-meeting-8/
LOCATION:Catskills
CATEGORIES:EM Event
END:VEVENT
BEGIN:VEVENT
DTSTART;TZID=America/New_York:20170226T200000
DTEND;TZID=America/New_York:20170226T210000
DTSTAMP:20260422T182559
CREATED:20170206T070416Z
LAST-MODIFIED:20170206T070416Z
UID:12872-1488139200-1488142800@uo.com
SUMMARY:Atlantic - 8pm East (Conseil du Roi\, Castle Blackthorn)
DESCRIPTION:
URL:https://uo.com/event/atlantic-8pm-east-conseil-du-roi-castle-blackthorn/
CATEGORIES:EM Event
END:VEVENT
BEGIN:VEVENT
DTSTART;TZID=Asia/Tokyo:20170226T203000
DTEND;TZID=Asia/Tokyo:20170226T224500
DTSTAMP:20260422T182559
CREATED:20170112T140013Z
LAST-MODIFIED:20170211T082204Z
UID:12634-1488141000-1488149100@uo.com
SUMMARY:Wakoku・Yamato・Mizuho - Girls' Day Event
DESCRIPTION:Come and join our traditional Girls’ day event covering all Japanese shards for 3 days! \nMeet Bart Yoshioka at Zento bank. \nTime table as follows:- \nDate / Time / Shard\n————————–\n2/24(Fri) / 21:00 / Izumo\n2/24(Fri) / 22:00 / Mugen\n————————–\n2/25(Sat) / 20:30 / Asuka\n2/25(Sat) / 21:15 / Sakura\n2/25(Sat) / 22:00 / Hokuto\n————————–\n2/26(Sun) / 20:30 / Wakoku\n2/26(Sun) / 21:15 / Yamato\n2/26(Sun) / 22:00 / Mizuho \nSee you all there!
URL:https://uo.com/event/wakoku%e3%83%bbyamato%e3%83%bbhokuto-girls-day-event/
LOCATION:Zento Bank
CATEGORIES:EM Event
END:VEVENT
BEGIN:VEVENT
DTSTART;TZID=Europe/Berlin:20170226T203000
DTEND;TZID=Europe/Berlin:20170226T213000
DTSTAMP:20260422T182559
CREATED:20170203T103303Z
LAST-MODIFIED:20170203T103303Z
UID:12847-1488141000-1488144600@uo.com
SUMMARY:Drachenfels: Royal Audience | Königliche Audienz
DESCRIPTION:Time: 8:30pm CET (UTC+1).  Location: Castle Blackthorn\, Britain\, Trammel.\nA Royal Audience will be held. Afterwards a HoF (RP) Mission will follow. \n \nZeit: 20:30 Uhr CET (UTC+1). Ort: Schloss Blackthorn\, Britain\, Trammel.\nEine Königliche Audienz wird abgehalten. Danach findet eine HoF (RP) Mission statt.
URL:https://uo.com/event/drachenfels-royal-audience-konigliche-audienz-11/
LOCATION:Drachenfels
CATEGORIES:EM Event
END:VEVENT
BEGIN:VEVENT
DTSTART;TZID=Europe/London:20170226T203000
DTEND;TZID=Europe/London:20170226T210000
DTSTAMP:20260422T182559
CREATED:20170214T191023Z
LAST-MODIFIED:20170214T191023Z
UID:13029-1488141000-1488142800@uo.com
SUMMARY:Europa ^ The Kings’ Gathering
DESCRIPTION:
URL:https://uo.com/event/europa-the-kings-gathering-3/
LOCATION:Blackthorn Castle meeting room
CATEGORIES:EM Event
ORGANIZER;CN="EM%20Kimmie":MAILTO:kimmie@uoem.net
END:VEVENT
BEGIN:VEVENT
DTSTART;TZID=Europe/London:20170226T210000
DTEND;TZID=Europe/London:20170226T220000
DTSTAMP:20260422T182559
CREATED:20170207T034909Z
LAST-MODIFIED:20170214T191434Z
UID:12893-1488142800-1488146400@uo.com
SUMMARY:Europa - Cupid's Revenge
DESCRIPTION:9 pm UK time – EM HALL
URL:https://uo.com/event/europa-cupids-revenge/
CATEGORIES:EM Event
END:VEVENT
BEGIN:VEVENT
DTSTART;TZID=Asia/Taipei:20170226T210000
DTEND;TZID=Asia/Taipei:20170226T230000
DTSTAMP:20260422T182559
CREATED:20170218T175608Z
LAST-MODIFIED:20170218T175650Z
UID:13041-1488142800-1488150000@uo.com
SUMMARY:Formosa Bagball Championship 2017
DESCRIPTION:
URL:https://uo.com/event/formosa-bagball-championship-2017/
LOCATION:Formosa Britain EM Hall
CATEGORIES:EM Event
END:VEVENT
END:VCALENDAR