BEGIN:VCALENDAR
VERSION:2.0
PRODID:-//Ultima Online - ECPv5.16.4.1//NONSGML v1.0//EN
CALSCALE:GREGORIAN
METHOD:PUBLISH
X-WR-CALNAME:Ultima Online
X-ORIGINAL-URL:https://uo.com
X-WR-CALDESC:Events for Ultima Online
BEGIN:VTIMEZONE
TZID:America/New_York
BEGIN:DAYLIGHT
TZOFFSETFROM:-0500
TZOFFSETTO:-0400
TZNAME:EDT
DTSTART:20170312T070000
END:DAYLIGHT
BEGIN:STANDARD
TZOFFSETFROM:-0400
TZOFFSETTO:-0500
TZNAME:EST
DTSTART:20171105T060000
END:STANDARD
TZID:America/Chicago
BEGIN:DAYLIGHT
TZOFFSETFROM:-0600
TZOFFSETTO:-0500
TZNAME:CDT
DTSTART:20170312T080000
END:DAYLIGHT
BEGIN:STANDARD
TZOFFSETFROM:-0500
TZOFFSETTO:-0600
TZNAME:CST
DTSTART:20171105T070000
END:STANDARD
END:VTIMEZONE
BEGIN:VEVENT
DTSTART;TZID=America/New_York:20170228T180000
DTEND;TZID=America/New_York:20170228T190000
DTSTAMP:20260422T163706
CREATED:20170128T174701Z
LAST-MODIFIED:20170128T174701Z
UID:12825-1488304800-1488308400@uo.com
SUMMARY:Sonoma - Town Hall & Paragon Dungeon Crawl
DESCRIPTION:Join us at the Hall of Commons for Sonoma’s monthly town hall @ 6pm PST followed by a paragon dungeon crawl at 7! Gates will be provided in Luna and Brit.
URL:https://uo.com/event/sonoma-town-hall-paragon-dungeon-crawl-2/
CATEGORIES:EM Event
END:VEVENT
BEGIN:VEVENT
DTSTART;TZID=America/New_York:20170228T200000
DTEND;TZID=America/New_York:20170228T210000
DTSTAMP:20260422T163706
CREATED:20170223T015219Z
LAST-MODIFIED:20170227T010852Z
UID:13061-1488312000-1488315600@uo.com
SUMMARY:Chesapeake Meg & Company vs Hugh the Hand
DESCRIPTION:Meg will meet up with the group to discuss her final plans against the pirate who kidnapped her SO many years ago.
URL:https://uo.com/event/chesapeake-meg-company-vs-hugh-the-hand/
LOCATION:Chesapeake
CATEGORIES:EM Event
END:VEVENT
BEGIN:VEVENT
DTSTART;TZID=America/Chicago:20170228T200000
DTEND;TZID=America/Chicago:20170228T200000
DTSTAMP:20260422T163706
CREATED:20170228T145947Z
LAST-MODIFIED:20170206T150348Z
UID:12885-1488312000-1488312000@uo.com
SUMMARY:Great Lakes - Royal Britannian Guard
DESCRIPTION:This Royal Britannian Guard mission has the codename “Library of Scars”. To attend\, go through the moongate inside the Britain Counselor Hall.
URL:https://uo.com/event/great-lakes-royal-britannian-guard-22/
LOCATION:Great Lakes – Counselor Hall
CATEGORIES:EM Event
END:VEVENT
END:VCALENDAR