BEGIN:VCALENDAR
VERSION:2.0
PRODID:-//Ultima Online - ECPv5.16.4.1//NONSGML v1.0//EN
CALSCALE:GREGORIAN
METHOD:PUBLISH
X-WR-CALNAME:Ultima Online
X-ORIGINAL-URL:https://uo.com
X-WR-CALDESC:Events for Ultima Online
BEGIN:VTIMEZONE
TZID:America/New_York
BEGIN:DAYLIGHT
TZOFFSETFROM:-0500
TZOFFSETTO:-0400
TZNAME:EDT
DTSTART:20170312T070000
END:DAYLIGHT
BEGIN:STANDARD
TZOFFSETFROM:-0400
TZOFFSETTO:-0500
TZNAME:EST
DTSTART:20171105T060000
END:STANDARD
TZID:America/Los_Angeles
BEGIN:DAYLIGHT
TZOFFSETFROM:-0800
TZOFFSETTO:-0700
TZNAME:PDT
DTSTART:20170312T100000
END:DAYLIGHT
BEGIN:STANDARD
TZOFFSETFROM:-0700
TZOFFSETTO:-0800
TZNAME:PST
DTSTART:20171105T090000
END:STANDARD
TZID:Asia/Seoul
BEGIN:STANDARD
TZOFFSETFROM:+0900
TZOFFSETTO:+0900
TZNAME:KST
DTSTART:20170101T000000
END:STANDARD
TZID:Asia/Tokyo
BEGIN:STANDARD
TZOFFSETFROM:+0900
TZOFFSETTO:+0900
TZNAME:JST
DTSTART:20170101T000000
END:STANDARD
END:VTIMEZONE
BEGIN:VEVENT
DTSTART;TZID=America/New_York:20170318T180000
DTEND;TZID=America/New_York:20170318T200000
DTSTAMP:20260422T163830
CREATED:20170309T223149Z
LAST-MODIFIED:20170313T144952Z
UID:13265-1489860000-1489867200@uo.com
SUMMARY:Siege Perilous - Meet and Greet
DESCRIPTION:A new EM walks amongst you.  \nIs he friend? Is he foe? \nWhere does he hide the corpses of all those unrepentant Trammies? \nDoes he like pizza or cake best? \nAnd what was that strange noise right behind you? \nYou will have your chance to have all these deep and meaningful questions and more answered on \nSaturday 18th March at 6pm EST\, 10pm GMT. \nCome and discuss recent occurrences and potential events on Siege Perilous\, and ask questions or offer suggestions to your newest Event Moderator. \nGates to the party will be provided from a variety of places. \nThe important stuff:  \nDrinks are on the house! \nAll who attend will have the opportunity to rummage through EM Kincaid’s laundry basket. \nSiege Health and Safety would advise you to wear gloves\, if only they were still alive. \n 
URL:https://uo.com/event/siege-perilous-meet-and-greet/
LOCATION:Siege Perilous
CATEGORIES:EM Event
END:VEVENT
BEGIN:VEVENT
DTSTART;TZID=America/Los_Angeles:20170318T190000
DTEND;TZID=America/Los_Angeles:20170318T200000
DTSTAMP:20260422T163830
CREATED:20170309T021355Z
LAST-MODIFIED:20170309T021355Z
UID:13234-1489863600-1489867200@uo.com
SUMMARY:Baja - Problems In Pitmuck
DESCRIPTION:Richardson the Guard needs your help with a goblin uprising in Skara Brae!
URL:https://uo.com/event/baja-problems-in-pitmuck/
LOCATION:Meet At Counselor Hall
CATEGORIES:EM Event
END:VEVENT
BEGIN:VEVENT
DTSTART;TZID=Asia/Seoul:20170318T200000
DTEND;TZID=Asia/Seoul:20170318T210000
DTSTAMP:20260422T163830
CREATED:20170310T165545Z
LAST-MODIFIED:20170310T165802Z
UID:13285-1489867200-1489870800@uo.com
SUMMARY:Arirang - The Forgotten Prince
DESCRIPTION:Event Schedule \nDate/Time: March 18th\, 2017 08:00PM KST\nMeeting Place: Britain EM Hall \nEvent Story \nHanse who failed to find dark sapphire in dungeon Deceit decides to move to next place where the rumor said. Although there is no evidence that dark sapphire exists\, but he strongly believes that rumor is not completely urban legend. \nCaution! \nWe’re expecting battle in this event\, please insure your precious items or leave them to your bank box. Event time is not that long so we’ll start it right in time. \nWarning \nIf anyone disrupt the event\, spamming\, insulting\, and harassing others or EM\, event will be stopped until the situation is handled. Please be advice that any inappropriate behavior will noted to your account\, and some of them can be fatal. EM will trying to hear your suggestion\, complain\, question\, and feedback willingly. Even though EM willing to hear and deal with the issue\, please note that there are some things that EM cannot deal with. \nEvent Chat Channel \nDuring the event\, we’ll use “Arirang EM Event” chat channel. To communicate with EM\, it is highly recommended to join the channel. EM will not take any responsibility for any penalties of information because of this.
URL:https://uo.com/event/arirang-the-forgotten-prince/
LOCATION:Arirang
CATEGORIES:EM Event
END:VEVENT
BEGIN:VEVENT
DTSTART;TZID=Asia/Tokyo:20170318T203000
DTEND;TZID=Asia/Tokyo:20170318T224500
DTSTAMP:20260422T163830
CREATED:20170211T085556Z
LAST-MODIFIED:20170305T113655Z
UID:12978-1489869000-1489877100@uo.com
SUMMARY:Mizuho・Yamato・Hokuto - White Day event
DESCRIPTION:In Japan\, Valentine’s Day is typically observed by women presenting chocolate gifts\, usually to men\, as an expression of love\, courtesy\, or social obligation. \nWhite Day is the day the man gives presents back to the woman. \nhttps://en.wikipedia.org/wiki/White_Day \n°˖✧◝(⁰▿⁰)◜✧˖° \nMeet Samantha the widow at Trinsic NPC house. She would open the chest following the will of her husband passed away 10 years ago. \nA gate will be provided from Nujel’m EM Hall (New Haven Bank for Mugen) \nSee you all there! \n======================= \n3/17(Fri)\n21：00～ Izumo\n22：00～ Mugen\n——————-\n3/18(Sat)\n20：30～ Mizuho\n21：15～ Yamato\n22：00～ Hokuto\n——————-\n3/19(Sun)\n20：30～ Wakoku\n21：15～ Asuka\n22：00～ Sakura
URL:https://uo.com/event/asuka%e3%83%bbsakura%e3%83%bbhokuto-white-day-event/
LOCATION:TBD
CATEGORIES:EM Event
END:VEVENT
END:VCALENDAR