BEGIN:VCALENDAR
VERSION:2.0
PRODID:-//Ultima Online - ECPv5.16.4.1//NONSGML v1.0//EN
CALSCALE:GREGORIAN
METHOD:PUBLISH
X-WR-CALNAME:Ultima Online
X-ORIGINAL-URL:https://uo.com
X-WR-CALDESC:Events for Ultima Online
BEGIN:VTIMEZONE
TZID:America/Chicago
BEGIN:DAYLIGHT
TZOFFSETFROM:-0600
TZOFFSETTO:-0500
TZNAME:CDT
DTSTART:20170312T080000
END:DAYLIGHT
BEGIN:STANDARD
TZOFFSETFROM:-0500
TZOFFSETTO:-0600
TZNAME:CST
DTSTART:20171105T070000
END:STANDARD
TZID:America/New_York
BEGIN:DAYLIGHT
TZOFFSETFROM:-0500
TZOFFSETTO:-0400
TZNAME:EDT
DTSTART:20170312T070000
END:DAYLIGHT
BEGIN:STANDARD
TZOFFSETFROM:-0400
TZOFFSETTO:-0500
TZNAME:EST
DTSTART:20171105T060000
END:STANDARD
END:VTIMEZONE
BEGIN:VEVENT
DTSTART;TZID=America/Chicago:20170321T200000
DTEND;TZID=America/Chicago:20170321T200000
DTSTAMP:20260422T163705
CREATED:20170305T043225Z
LAST-MODIFIED:20170305T043225Z
UID:13156-1490126400-1490126400@uo.com
SUMMARY:Great Lakes - Royal Spy Mission
DESCRIPTION:This Royal Spy mission has the codename “The Informant”. To attend\, go to the Britain Counselor Hall and investigate the suit of armor.
URL:https://uo.com/event/great-lakes-royal-spy-mission-39/
LOCATION:Great Lakes – Counselor Hall
CATEGORIES:EM Event
END:VEVENT
BEGIN:VEVENT
DTSTART;TZID=America/New_York:20170321T200000
DTEND;TZID=America/New_York:20170321T210000
DTSTAMP:20260422T163705
CREATED:20170305T162555Z
LAST-MODIFIED:20170305T162555Z
UID:13167-1490126400-1490130000@uo.com
SUMMARY:Legends - The Sage's Journey Part 3
DESCRIPTION:On Tuesday\, March 21st at 8:00 PM EST\, meet Sage Alonso at the Minoc Gypsy camp to continue the journey.
URL:https://uo.com/event/legends-the-sages-journey-part-3/
LOCATION:Legends
CATEGORIES:EM Event
END:VEVENT
BEGIN:VEVENT
DTSTART;TZID=America/New_York:20170321T210000
DTEND;TZID=America/New_York:20170321T220000
DTSTAMP:20260422T163705
CREATED:20170302T043925Z
LAST-MODIFIED:20170302T043926Z
UID:13140-1490130000-1490133600@uo.com
SUMMARY:Chesapeake - Adventure Into The Woods (The Knights of Sacrifice) 9pm Est
DESCRIPTION:Adventure Into The Woods (The Knights of Sacrifice) 9pm Est \nGates to the event will be located at West Brit Bank and Luna Bank \nPlease join The Knights of Sacrifice as we adventure into the woods of Moonglow. You never know what you may find..
URL:https://uo.com/event/chesapeake-adventure-into-the-woods-the-knights-of-sacrifice-9pm-est/
LOCATION:Chesapeake
CATEGORIES:EM Event
END:VEVENT
END:VCALENDAR