BEGIN:VCALENDAR
VERSION:2.0
PRODID:-//Ultima Online - ECPv5.16.4.1//NONSGML v1.0//EN
CALSCALE:GREGORIAN
METHOD:PUBLISH
X-WR-CALNAME:Ultima Online
X-ORIGINAL-URL:https://uo.com
X-WR-CALDESC:Events for Ultima Online
BEGIN:VTIMEZONE
TZID:America/New_York
BEGIN:DAYLIGHT
TZOFFSETFROM:-0500
TZOFFSETTO:-0400
TZNAME:EDT
DTSTART:20170312T070000
END:DAYLIGHT
BEGIN:STANDARD
TZOFFSETFROM:-0400
TZOFFSETTO:-0500
TZNAME:EST
DTSTART:20171105T060000
END:STANDARD
TZID:America/Los_Angeles
BEGIN:DAYLIGHT
TZOFFSETFROM:-0800
TZOFFSETTO:-0700
TZNAME:PDT
DTSTART:20170312T100000
END:DAYLIGHT
BEGIN:STANDARD
TZOFFSETFROM:-0700
TZOFFSETTO:-0800
TZNAME:PST
DTSTART:20171105T090000
END:STANDARD
TZID:Asia/Tokyo
BEGIN:STANDARD
TZOFFSETFROM:+0900
TZOFFSETTO:+0900
TZNAME:JST
DTSTART:20170101T000000
END:STANDARD
TZID:Asia/Taipei
BEGIN:STANDARD
TZOFFSETFROM:+0800
TZOFFSETTO:+0800
TZNAME:CST
DTSTART:20170101T000000
END:STANDARD
END:VTIMEZONE
BEGIN:VEVENT
DTSTART;TZID=America/New_York:20170324T180000
DTEND;TZID=America/New_York:20170324T200000
DTSTAMP:20260422T163723
CREATED:20170313T150422Z
LAST-MODIFIED:20170313T150422Z
UID:13291-1490378400-1490385600@uo.com
SUMMARY:Siege Perilous - Governors' Council Meeting
DESCRIPTION:6pm EST.  10pm GMT.  8pm IOT.  2am NZST.  11pm JST.  5pm MSK. \nRoyal duties\, and mysterious occurrences have kept Lord Blackthorn out of the public eye for some time. This month\, he returns to speak with his trusted Governors\, and to address the people of Britannia. \n  \nGovernors\, you are summoned to a council meeting this weekend to get an update on recent occurrences in Britannia. This council meeting is open to the public\, and all citizens are encouraged to attend. \n  \nCitizens\, you may speak for yourselves\, in an orderly fashion\, or petition your governor to speak on your behalf before the meeting. \nGovernors\, if you cannot attend\, please ensure that your office sends official apologies. \nGates will be provided. Pets are not permitted in the council chamber\, but are welcome to frolic on the lawn outside.
URL:https://uo.com/event/siege-perilous-governors-council-meeting/
CATEGORIES:EM Event
END:VEVENT
BEGIN:VEVENT
DTSTART;TZID=America/Los_Angeles:20170324T190000
DTEND;TZID=America/Los_Angeles:20170324T200000
DTSTAMP:20260422T163723
CREATED:20170320T152830Z
LAST-MODIFIED:20170320T152830Z
UID:13365-1490382000-1490385600@uo.com
SUMMARY:Origin ~ Have Gear Will Travel #21: 'what evil lurks...' *FELUCCA*
DESCRIPTION:
URL:https://uo.com/event/origin-have-gear-will-travel-21-what-evil-lurks-felucca/
CATEGORIES:EM Event
END:VEVENT
BEGIN:VEVENT
DTSTART;TZID=Asia/Tokyo:20170324T210000
DTEND;TZID=Asia/Tokyo:20170324T230000
DTSTAMP:20260422T163723
CREATED:20170211T090413Z
LAST-MODIFIED:20170211T090413Z
UID:12987-1490389200-1490396400@uo.com
SUMMARY:Mizuho  - The Council Meeting with the King & a mini event afterward
DESCRIPTION:The King invites all Governors and Citizens to the Council Meeting.\n*Please note this meeting requires everyone is “in-character”\, and thus roleplay is expected of all who attend.
URL:https://uo.com/event/mizuho-the-council-meeting-with-the-king-a-mini-event-afterward/
LOCATION:Castle Blackthorn
CATEGORIES:EM Event
END:VEVENT
BEGIN:VEVENT
DTSTART;TZID=Asia/Taipei:20170324T210000
DTEND;TZID=Asia/Taipei:20170324T230000
DTSTAMP:20260422T163723
CREATED:20170322T141249Z
LAST-MODIFIED:20170322T141249Z
UID:13393-1490389200-1490396400@uo.com
SUMMARY:Formosa Archery Contest
DESCRIPTION:Em Britain hall
URL:https://uo.com/event/formosa-archery-contest/
LOCATION:Formosa Britain EM Hall
CATEGORIES:EM Event
END:VEVENT
END:VCALENDAR