BEGIN:VCALENDAR
VERSION:2.0
PRODID:-//Ultima Online - ECPv5.16.4.1//NONSGML v1.0//EN
CALSCALE:GREGORIAN
METHOD:PUBLISH
X-WR-CALNAME:Ultima Online
X-ORIGINAL-URL:https://uo.com
X-WR-CALDESC:Events for Ultima Online
BEGIN:VTIMEZONE
TZID:America/New_York
BEGIN:DAYLIGHT
TZOFFSETFROM:-0500
TZOFFSETTO:-0400
TZNAME:EDT
DTSTART:20170312T070000
END:DAYLIGHT
BEGIN:STANDARD
TZOFFSETFROM:-0400
TZOFFSETTO:-0500
TZNAME:EST
DTSTART:20171105T060000
END:STANDARD
TZID:America/Chicago
BEGIN:DAYLIGHT
TZOFFSETFROM:-0600
TZOFFSETTO:-0500
TZNAME:CDT
DTSTART:20170312T080000
END:DAYLIGHT
BEGIN:STANDARD
TZOFFSETFROM:-0500
TZOFFSETTO:-0600
TZNAME:CST
DTSTART:20171105T070000
END:STANDARD
END:VTIMEZONE
BEGIN:VEVENT
DTSTART;TZID=America/New_York:20170328T190000
DTEND;TZID=America/New_York:20170328T210000
DTSTAMP:20260422T163711
CREATED:20170327T213256Z
LAST-MODIFIED:20170327T213256Z
UID:13431-1490727600-1490734800@uo.com
SUMMARY:Catskills - The Forgotten
DESCRIPTION:Commander Brodgar calls upon the RBG to gather in Serpents Hold!
URL:https://uo.com/event/catskills-the-forgotten-14/
LOCATION:Catskills
CATEGORIES:EM Event
END:VEVENT
BEGIN:VEVENT
DTSTART;TZID=America/Chicago:20170328T200000
DTEND;TZID=America/Chicago:20170328T200000
DTSTAMP:20260422T163711
CREATED:20170305T043436Z
LAST-MODIFIED:20170305T043436Z
UID:13160-1490731200-1490731200@uo.com
SUMMARY:Great Lakes - Royal Spy Mission
DESCRIPTION:This Royal Spy mission has the codename “Distillation”. To attend\, go to the Britain Counselor Hall and investigate the suit of armor.
URL:https://uo.com/event/great-lakes-royal-spy-mission-40/
LOCATION:Great Lakes – Counselor Hall
CATEGORIES:EM Event
END:VEVENT
BEGIN:VEVENT
DTSTART;TZID=America/New_York:20170328T200000
DTEND;TZID=America/New_York:20170328T210000
DTSTAMP:20260422T163711
CREATED:20170305T162914Z
LAST-MODIFIED:20170305T162914Z
UID:13171-1490731200-1490734800@uo.com
SUMMARY:Legends - Premonitions of Annihilation
DESCRIPTION:On Tuesday\, March 28th at 8:00 PM EST\, meet Commander Forthwin at Castle Blackthorn.
URL:https://uo.com/event/legends-premonitions-of-annihilation/
LOCATION:Legends
CATEGORIES:EM Event
END:VEVENT
END:VCALENDAR