BEGIN:VCALENDAR
VERSION:2.0
PRODID:-//Ultima Online - ECPv5.16.4.1//NONSGML v1.0//EN
CALSCALE:GREGORIAN
METHOD:PUBLISH
X-WR-CALNAME:Ultima Online
X-ORIGINAL-URL:https://uo.com
X-WR-CALDESC:Events for Ultima Online
BEGIN:VTIMEZONE
TZID:America/New_York
BEGIN:DAYLIGHT
TZOFFSETFROM:-0500
TZOFFSETTO:-0400
TZNAME:EDT
DTSTART:20170312T070000
END:DAYLIGHT
BEGIN:STANDARD
TZOFFSETFROM:-0400
TZOFFSETTO:-0500
TZNAME:EST
DTSTART:20171105T060000
END:STANDARD
TZID:Europe/London
BEGIN:DAYLIGHT
TZOFFSETFROM:+0000
TZOFFSETTO:+0100
TZNAME:BST
DTSTART:20170326T010000
END:DAYLIGHT
BEGIN:STANDARD
TZOFFSETFROM:+0100
TZOFFSETTO:+0000
TZNAME:GMT
DTSTART:20171029T010000
END:STANDARD
END:VTIMEZONE
BEGIN:VEVENT
DTSTART;TZID=America/New_York:20170406T200000
DTEND;TZID=America/New_York:20170406T210000
DTSTAMP:20260422T150919
CREATED:20170318T150328Z
LAST-MODIFIED:20170318T150328Z
UID:13344-1491508800-1491512400@uo.com
SUMMARY:Legends - The Battle of Trinsic Part 1
DESCRIPTION:On Thursday\, April 6th at 8:00 PM EST\, meet at Castle Blackthorn.
URL:https://uo.com/event/legends-the-battle-of-trinsic-part-1/
LOCATION:Legends
CATEGORIES:EM Event
END:VEVENT
BEGIN:VEVENT
DTSTART;TZID=Europe/London:20170406T203000
DTEND;TZID=Europe/London:20170406T213000
DTSTAMP:20260422T150919
CREATED:20170403T134744Z
LAST-MODIFIED:20170403T134744Z
UID:13463-1491510600-1491514200@uo.com
SUMMARY:Europa ^ Beyond the Myth ~ Tale 8
DESCRIPTION:
URL:https://uo.com/event/europa-beyond-the-myth-tale-8/
LOCATION:EM Counselor Hall (Britain)
CATEGORIES:EM Event
ORGANIZER;CN="EM%20Kimmie":MAILTO:kimmie@uoem.net
END:VEVENT
END:VCALENDAR