BEGIN:VCALENDAR
VERSION:2.0
PRODID:-//Ultima Online - ECPv5.16.4.1//NONSGML v1.0//EN
CALSCALE:GREGORIAN
METHOD:PUBLISH
X-WR-CALNAME:Ultima Online
X-ORIGINAL-URL:https://uo.com
X-WR-CALDESC:Events for Ultima Online
BEGIN:VTIMEZONE
TZID:Europe/London
BEGIN:DAYLIGHT
TZOFFSETFROM:+0000
TZOFFSETTO:+0100
TZNAME:BST
DTSTART:20170326T010000
END:DAYLIGHT
BEGIN:STANDARD
TZOFFSETFROM:+0100
TZOFFSETTO:+0000
TZNAME:GMT
DTSTART:20171029T010000
END:STANDARD
TZID:Europe/Berlin
BEGIN:DAYLIGHT
TZOFFSETFROM:+0100
TZOFFSETTO:+0200
TZNAME:CEST
DTSTART:20170326T010000
END:DAYLIGHT
BEGIN:STANDARD
TZOFFSETFROM:+0200
TZOFFSETTO:+0100
TZNAME:CET
DTSTART:20171029T010000
END:STANDARD
TZID:America/New_York
BEGIN:DAYLIGHT
TZOFFSETFROM:-0500
TZOFFSETTO:-0400
TZNAME:EDT
DTSTART:20170312T070000
END:DAYLIGHT
BEGIN:STANDARD
TZOFFSETFROM:-0400
TZOFFSETTO:-0500
TZNAME:EST
DTSTART:20171105T060000
END:STANDARD
END:VTIMEZONE
BEGIN:VEVENT
DTSTART;TZID=Europe/London:20170409T203000
DTEND;TZID=Europe/London:20170409T213000
DTSTAMP:20260422T151011
CREATED:20170403T150051Z
LAST-MODIFIED:20170403T150051Z
UID:13465-1491769800-1491773400@uo.com
SUMMARY:Europa ^ Mix\, Mingle\, Mob!
DESCRIPTION:
URL:https://uo.com/event/europa-mix-mingle-mob-8/
LOCATION:EM Counselor Hall (Britain)
CATEGORIES:EM Event
ORGANIZER;CN="EM%20Kimmie":MAILTO:kimmie@uoem.net
END:VEVENT
BEGIN:VEVENT
DTSTART;TZID=Europe/Berlin:20170409T203000
DTEND;TZID=Europe/Berlin:20170409T213000
DTSTAMP:20260422T151011
CREATED:20170404T061621Z
LAST-MODIFIED:20170404T062127Z
UID:13488-1491769800-1491773400@uo.com
SUMMARY:Drachenfels: Low voices... | Leise Stimmen...
DESCRIPTION:Time: 8:30pm CEST (UTC+2).  Location: Castle Blackthorn\, Trammel.\nMini HoF (RP) Event: Low voices… are rarely heard. \nZeit: 20:30 Uhr CEST (UTC+2). Ort: Castle Blackthorn\, Trammel.\nMini HoF (RP) Event: Leise Stimmen… werden selten gehört.
URL:https://uo.com/event/drachenfels-low-voices-leise-stimmen/
LOCATION:Drachenfels
CATEGORIES:EM Event
END:VEVENT
BEGIN:VEVENT
DTSTART;TZID=America/New_York:20170409T220000
DTEND;TZID=America/New_York:20170409T230000
DTSTAMP:20260422T151011
CREATED:20170320T153339Z
LAST-MODIFIED:20170320T153339Z
UID:13370-1491775200-1491778800@uo.com
SUMMARY:Sonoma - Governors Meeting
DESCRIPTION:King Blackthorn requests the presence of all citizens to the monthly governors meeting on Sunday\, April 9th @ 7pm PST (10pm EST).
URL:https://uo.com/event/sonoma-governors-meeting-8/
CATEGORIES:EM Event
END:VEVENT
END:VCALENDAR