BEGIN:VCALENDAR
VERSION:2.0
PRODID:-//Ultima Online - ECPv5.16.4.1//NONSGML v1.0//EN
CALSCALE:GREGORIAN
METHOD:PUBLISH
X-WR-CALNAME:Ultima Online
X-ORIGINAL-URL:https://uo.com
X-WR-CALDESC:Events for Ultima Online
BEGIN:VTIMEZONE
TZID:America/Los_Angeles
BEGIN:DAYLIGHT
TZOFFSETFROM:-0800
TZOFFSETTO:-0700
TZNAME:PDT
DTSTART:20170312T100000
END:DAYLIGHT
BEGIN:STANDARD
TZOFFSETFROM:-0700
TZOFFSETTO:-0800
TZNAME:PST
DTSTART:20171105T090000
END:STANDARD
TZID:America/New_York
BEGIN:DAYLIGHT
TZOFFSETFROM:-0500
TZOFFSETTO:-0400
TZNAME:EDT
DTSTART:20170312T070000
END:DAYLIGHT
BEGIN:STANDARD
TZOFFSETFROM:-0400
TZOFFSETTO:-0500
TZNAME:EST
DTSTART:20171105T060000
END:STANDARD
END:VTIMEZONE
BEGIN:VEVENT
DTSTART;TZID=America/Los_Angeles:20170412T190000
DTEND;TZID=America/Los_Angeles:20170412T200000
DTSTAMP:20260422T150856
CREATED:20170401T162031Z
LAST-MODIFIED:20170401T162031Z
UID:13457-1492023600-1492027200@uo.com
SUMMARY:Baja - The Darkest Shadow
DESCRIPTION:Richardson the Guard needs your help in stopping Yughor Crow the Shadowlord from opening a portal to the Corrupted Shard of Lacuna!
URL:https://uo.com/event/baja-the-darkest-shadow/
LOCATION:Meet At Counselor Hall
CATEGORIES:EM Event
END:VEVENT
BEGIN:VEVENT
DTSTART;TZID=America/New_York:20170412T200000
DTEND;TZID=America/New_York:20170412T210000
DTSTAMP:20260422T150856
CREATED:20170318T150517Z
LAST-MODIFIED:20170318T150517Z
UID:13346-1492027200-1492030800@uo.com
SUMMARY:Legends - The Battle of Trinsic Part 2
DESCRIPTION:On Wednesday\, April 12th at 8:00 PM EST\, the guard will muster in the reclaimed parts of Trinsic to continue their attack.
URL:https://uo.com/event/legends-the-battle-of-trinsic-part-2/
LOCATION:Legends
CATEGORIES:EM Event
END:VEVENT
BEGIN:VEVENT
DTSTART;TZID=America/New_York:20170412T220000
DTEND;TZID=America/New_York:20170412T230000
DTSTAMP:20260422T150856
CREATED:20170320T153757Z
LAST-MODIFIED:20170326T144104Z
UID:13372-1492034400-1492038000@uo.com
SUMMARY:Sonoma - The Philosopher's Stone - *Thief Event*
DESCRIPTION:In an effort to resurrect the guard’s commander\, Chimaera\, an ancient guide must be found that lists all necessary ingredients required to create the philosopher’s stone. This guide is located deep within a dungeon in Britannia. As the inhabitants of this dungeon prefer to keep their ancient alchemical tomes\, stealth and the art of theft will be necessary.   \n Brave members of Britannia are called to arms in Serpent’s Hold on Wednesday\, April 12th at 7pm PST (10pm EST). \nNote: It is recommended to have 100 stealing skill to participate. Hiding and Stealth are recommended\, as well.
URL:https://uo.com/event/sonoma-the-philosophers-stone-thief-event/
CATEGORIES:EM Event
END:VEVENT
END:VCALENDAR