BEGIN:VCALENDAR
VERSION:2.0
PRODID:-//Ultima Online - ECPv5.16.4.1//NONSGML v1.0//EN
CALSCALE:GREGORIAN
METHOD:PUBLISH
X-WR-CALNAME:Ultima Online
X-ORIGINAL-URL:https://uo.com
X-WR-CALDESC:Events for Ultima Online
BEGIN:VTIMEZONE
TZID:America/Los_Angeles
BEGIN:DAYLIGHT
TZOFFSETFROM:-0800
TZOFFSETTO:-0700
TZNAME:PDT
DTSTART:20170312T100000
END:DAYLIGHT
BEGIN:STANDARD
TZOFFSETFROM:-0700
TZOFFSETTO:-0800
TZNAME:PST
DTSTART:20171105T090000
END:STANDARD
TZID:America/New_York
BEGIN:DAYLIGHT
TZOFFSETFROM:-0500
TZOFFSETTO:-0400
TZNAME:EDT
DTSTART:20170312T070000
END:DAYLIGHT
BEGIN:STANDARD
TZOFFSETFROM:-0400
TZOFFSETTO:-0500
TZNAME:EST
DTSTART:20171105T060000
END:STANDARD
TZID:Europe/London
BEGIN:DAYLIGHT
TZOFFSETFROM:+0000
TZOFFSETTO:+0100
TZNAME:BST
DTSTART:20170326T010000
END:DAYLIGHT
BEGIN:STANDARD
TZOFFSETFROM:+0100
TZOFFSETTO:+0000
TZNAME:GMT
DTSTART:20171029T010000
END:STANDARD
END:VTIMEZONE
BEGIN:VEVENT
DTSTART;TZID=America/Los_Angeles:20170420T190000
DTEND;TZID=America/Los_Angeles:20170420T200000
DTSTAMP:20260422T150918
CREATED:20170412T030744Z
LAST-MODIFIED:20170412T030744Z
UID:13561-1492714800-1492718400@uo.com
SUMMARY:*Pacific* A Great Loss
DESCRIPTION:
URL:https://uo.com/event/pacific-a-great-loss/
LOCATION:Castle Blackthorn Courtyard
CATEGORIES:EM Event
END:VEVENT
BEGIN:VEVENT
DTSTART;TZID=America/New_York:20170420T200000
DTEND;TZID=America/New_York:20170420T210000
DTSTAMP:20260422T150918
CREATED:20170318T150645Z
LAST-MODIFIED:20170318T150645Z
UID:13348-1492718400-1492722000@uo.com
SUMMARY:Legends - The Battle of Trinsic Part 3
DESCRIPTION:On Thursday\, April 20th at 8:00 PM EST\, meet in the reclaimed parts of Trinsic to continue the battle.
URL:https://uo.com/event/legends-the-battle-of-trinsic-part-3/
LOCATION:Legends
CATEGORIES:EM Event
END:VEVENT
BEGIN:VEVENT
DTSTART;TZID=Europe/London:20170420T203000
DTEND;TZID=Europe/London:20170420T223000
DTSTAMP:20260422T150918
CREATED:20170405T121338Z
LAST-MODIFIED:20170414T092318Z
UID:13499-1492720200-1492727400@uo.com
SUMMARY:Europa's Mage Tournament
DESCRIPTION:We are glad to announce a pure mage tournament 1vs1 . \nSend us your character name if you want to join at sarah@uoem.net \nRules: \nNo potions/consumables \nNo summons \nNo fields \nNo pets \nNo specials \nNo Spell focusing sash \nNo refinements \nSkills allowed : anatomy or wrestling\, eval\, resisting \, magery\, meditation\, inscribe. Bring your spell channeling lantern! The winner will be remembered with a plaque at the Occlo’s  Arena. \n*added* in case of draw – we will apply a “Sudden Death” rule ( no heals )
URL:https://uo.com/event/europas-mage-tournament/
CATEGORIES:EM Event
END:VEVENT
BEGIN:VEVENT
DTSTART;TZID=America/New_York:20170420T210000
DTEND;TZID=America/New_York:20170420T220000
DTSTAMP:20260422T150918
CREATED:20170323T153851Z
LAST-MODIFIED:20170323T153851Z
UID:13414-1492722000-1492725600@uo.com
SUMMARY:Chesapeake - Is It Worth The Blood - 9pm Est
DESCRIPTION:Is It Worth The Blood is part of The Knights of Sacrifice storyline. The event will take place April 20th at 9pm Est.
URL:https://uo.com/event/chesapeake-is-it-worth-the-blood-9pm-est/
CATEGORIES:EM Event
END:VEVENT
END:VCALENDAR