BEGIN:VCALENDAR
VERSION:2.0
PRODID:-//Ultima Online - ECPv5.16.4.1//NONSGML v1.0//EN
CALSCALE:GREGORIAN
METHOD:PUBLISH
X-WR-CALNAME:Ultima Online
X-ORIGINAL-URL:https://uo.com
X-WR-CALDESC:Events for Ultima Online
BEGIN:VTIMEZONE
TZID:America/Chicago
BEGIN:DAYLIGHT
TZOFFSETFROM:-0600
TZOFFSETTO:-0500
TZNAME:CDT
DTSTART:20170312T080000
END:DAYLIGHT
BEGIN:STANDARD
TZOFFSETFROM:-0500
TZOFFSETTO:-0600
TZNAME:CST
DTSTART:20171105T070000
END:STANDARD
TZID:America/Los_Angeles
BEGIN:DAYLIGHT
TZOFFSETFROM:-0800
TZOFFSETTO:-0700
TZNAME:PDT
DTSTART:20170312T100000
END:DAYLIGHT
BEGIN:STANDARD
TZOFFSETFROM:-0700
TZOFFSETTO:-0800
TZNAME:PST
DTSTART:20171105T090000
END:STANDARD
TZID:Asia/Seoul
BEGIN:STANDARD
TZOFFSETFROM:+0900
TZOFFSETTO:+0900
TZNAME:KST
DTSTART:20170101T000000
END:STANDARD
TZID:Europe/Berlin
BEGIN:DAYLIGHT
TZOFFSETFROM:+0100
TZOFFSETTO:+0200
TZNAME:CEST
DTSTART:20170326T010000
END:DAYLIGHT
BEGIN:STANDARD
TZOFFSETFROM:+0200
TZOFFSETTO:+0100
TZNAME:CET
DTSTART:20171029T010000
END:STANDARD
TZID:Asia/Tokyo
BEGIN:STANDARD
TZOFFSETFROM:+0900
TZOFFSETTO:+0900
TZNAME:JST
DTSTART:20170101T000000
END:STANDARD
END:VTIMEZONE
BEGIN:VEVENT
DTSTART;TZID=America/Chicago:20170422T190000
DTEND;TZID=America/Chicago:20170422T200000
DTSTAMP:20260422T151358
CREATED:20170411T020253Z
LAST-MODIFIED:20170411T020253Z
UID:13547-1492887600-1492891200@uo.com
SUMMARY:Lake Austin - "Hoppy Spring"
DESCRIPTION:-note this event is an hour earlier than usual so folks who start early on Easter Morning wont have to stay up late.\n-Location fairgrounds\n-Transportation provided from Luna bank \n-There may be a battle\, bring your pets/weapons just in case! \n  \nHappy Easter to those who celebrate!
URL:https://uo.com/event/lake-austin-hoppy-spring/
CATEGORIES:EM Event
END:VEVENT
BEGIN:VEVENT
DTSTART;TZID=America/Los_Angeles:20170422T190000
DTEND;TZID=America/Los_Angeles:20170422T200000
DTSTAMP:20260422T151358
CREATED:20170412T030832Z
LAST-MODIFIED:20170412T030832Z
UID:13563-1492887600-1492891200@uo.com
SUMMARY:*Pacific* Kings Meeting
DESCRIPTION:
URL:https://uo.com/event/pacific-kings-meeting-10/
LOCATION:Castle Blackthorn Governors Hall
CATEGORIES:EM Event
END:VEVENT
BEGIN:VEVENT
DTSTART;TZID=Asia/Seoul:20170422T200000
DTEND;TZID=Asia/Seoul:20170422T210000
DTSTAMP:20260422T151358
CREATED:20170407T171726Z
LAST-MODIFIED:20170414T033329Z
UID:13511-1492891200-1492894800@uo.com
SUMMARY:Arirang - Special Materials Part. 1
DESCRIPTION:Event Schedule \nDate/Time: April 22nd\, 2017 08:00PM KST\nMeeting Place: Britain EM Hall \nEvent Story \nNow Hanse and Sera obtained the Wolfgang’s dark sapphire\, which is the core element to repair golem’s memory core. In order to repair him\, however\, still need more materials as he is most unique golem they’ve seen. It is time for them to take another journey to gather the materials. \nCaution! \nWe’re expecting battle in this event\, please insure your precious items or leave them to your bank box. Event time is not that long so we’ll start it right in time. \nWarning \nIf anyone disrupt the event\, spamming\, insulting\, and harassing others or EM\, event will be stopped until the situation is handled. Please be advice that any inappropriate behavior will noted to your account\, and some of them can be fatal. EM will trying to hear your suggestion\, complain\, question\, and feedback willingly. Even though EM willing to hear and deal with the issue\, please note that there are some things that EM cannot deal with. \nEvent Chat Channel\nSe\nDuring the event\, we’ll use “Arirang EM Event” chat channel. To communicate with EM\, it is highly recommended to join the channel. EM will not take any responsibility for any penalties of information because of this.
URL:https://uo.com/event/arirang-special-materials-part-1/
LOCATION:Arirang
CATEGORIES:EM Event
END:VEVENT
BEGIN:VEVENT
DTSTART;TZID=Europe/Berlin:20170422T210000
DTEND;TZID=Europe/Berlin:20170422T220000
DTSTAMP:20260422T151358
CREATED:20170404T062006Z
LAST-MODIFIED:20170404T062006Z
UID:13490-1492894800-1492898400@uo.com
SUMMARY:Drachenfels: The hunt for Vasus | Die Jagd nach Vasus
DESCRIPTION:Time: 9:00pm CEST (UTC+2).  Location: tba.\nMain Event: Please welcome our guest\, EM Anderson\, to our lands… The hunt for Vasus has begun! \nZeit: 21:00 Uhr CEST (UTC+2). Ort: wird noch bekannt gegeben.\nHauptevent: Bitte heisst unseren Gast\, EM Anderson\, in unseren Ländern willkommen… Die Jagd nach Vasus hat begonnen!
URL:https://uo.com/event/drachenfels-the-hunt-for-vasus-die-jagd-nach-vasus/
LOCATION:Drachenfels
CATEGORIES:EM Event
END:VEVENT
BEGIN:VEVENT
DTSTART;TZID=Asia/Tokyo:20170422T220000
DTEND;TZID=Asia/Tokyo:20170422T220000
DTSTAMP:20260422T151358
CREATED:20170307T144235Z
LAST-MODIFIED:20170418T134429Z
UID:13206-1492898400-1492898400@uo.com
SUMMARY:Yamato - The Hidden Diary of Lord Denthe 3.
DESCRIPTION:Lord Denthe and his servant Sancho were sent to the past Britannia\, to the time before Ricardo’s trial. Sancho the servant would be ordered from Lord Denthe to join Ricardo’s thief guild to prevent him stealing “Zenith Scion” from Ophidians. \n*Meet Lord Denthe and Sancho the servant at Yew Court. You should come through the “time tunnel” discovered outside the Nujel’m EM hall so you can travel to the past! \n*This event will be held in Japanese text only. Please feel free to ask for help in the chat channel Tamchannel if you get lost. \nSee you soon! \n 
URL:https://uo.com/event/yamato-the-hidden-diary-of-lord-denthe-3/
LOCATION:Yew Court (A Time Tunnel is provided from Nujel’m EM Hall)
CATEGORIES:EM Event
END:VEVENT
END:VCALENDAR