BEGIN:VCALENDAR
VERSION:2.0
PRODID:-//Ultima Online - ECPv5.16.4.1//NONSGML v1.0//EN
CALSCALE:GREGORIAN
METHOD:PUBLISH
X-WR-CALNAME:Ultima Online
X-ORIGINAL-URL:https://uo.com
X-WR-CALDESC:Events for Ultima Online
BEGIN:VTIMEZONE
TZID:Asia/Tokyo
BEGIN:STANDARD
TZOFFSETFROM:+0900
TZOFFSETTO:+0900
TZNAME:JST
DTSTART:20170101T000000
END:STANDARD
TZID:America/Los_Angeles
BEGIN:DAYLIGHT
TZOFFSETFROM:-0800
TZOFFSETTO:-0700
TZNAME:PDT
DTSTART:20170312T100000
END:DAYLIGHT
BEGIN:STANDARD
TZOFFSETFROM:-0700
TZOFFSETTO:-0800
TZNAME:PST
DTSTART:20171105T090000
END:STANDARD
TZID:Asia/Taipei
BEGIN:STANDARD
TZOFFSETFROM:+0800
TZOFFSETTO:+0800
TZNAME:CST
DTSTART:20170101T000000
END:STANDARD
END:VTIMEZONE
BEGIN:VEVENT
DTSTART;TZID=Asia/Tokyo:20170428T090000
DTEND;TZID=Asia/Tokyo:20170428T230000
DTSTAMP:20260422T163543
CREATED:20170409T050728Z
LAST-MODIFIED:20170409T050728Z
UID:13520-1493370000-1493420400@uo.com
SUMMARY:Wakoku / Mugen - Boy's Day Event
DESCRIPTION:TBD\, time table as follows:- \n4/28(Fri)\n———\n21：00～ / Wakoku\n22：00～ / Mugen \n4/29(Sat)\n———\n20：30～ / Mizuho\n21：15～ / Sakura\n22：00～ / Yamato \n4/30(Sun)\n———\n20：30～ / Izumo\n21：15～ / Hokuto\n22：00～ / Asuka \n 
URL:https://uo.com/event/wakoku-mugen-boys-day-event/
LOCATION:TBD
CATEGORIES:EM Event
END:VEVENT
BEGIN:VEVENT
DTSTART;TZID=America/Los_Angeles:20170428T190000
DTEND;TZID=America/Los_Angeles:20170428T200000
DTSTAMP:20260422T163543
CREATED:20170424T015212Z
LAST-MODIFIED:20170424T015212Z
UID:13695-1493406000-1493409600@uo.com
SUMMARY:Origin ~ Have Gear Will Travel #22: ‘Revenge’ *Felucca/Ilshenar*
DESCRIPTION:
URL:https://uo.com/event/origin-have-gear-will-travel-22-revenge-feluccailshenar/
LOCATION:Luna Stables (meet at)
CATEGORIES:EM Event
END:VEVENT
BEGIN:VEVENT
DTSTART;TZID=Asia/Taipei:20170428T210000
DTEND;TZID=Asia/Taipei:20170428T230000
DTSTAMP:20260422T163543
CREATED:20170322T142251Z
LAST-MODIFIED:20170419T154401Z
UID:13400-1493413200-1493420400@uo.com
SUMMARY:Formosa Attack Of Titan 2
DESCRIPTION:Formosa EM Hall Map to the Titan Valley
URL:https://uo.com/event/formosa-attack-of-titan-2/
LOCATION:Formosa Britain EM Hall
CATEGORIES:EM Event
END:VEVENT
END:VCALENDAR