BEGIN:VCALENDAR
VERSION:2.0
PRODID:-//Ultima Online - ECPv5.16.4.1//NONSGML v1.0//EN
CALSCALE:GREGORIAN
METHOD:PUBLISH
X-WR-CALNAME:Ultima Online
X-ORIGINAL-URL:https://uo.com
X-WR-CALDESC:Events for Ultima Online
BEGIN:VTIMEZONE
TZID:America/Los_Angeles
BEGIN:DAYLIGHT
TZOFFSETFROM:-0800
TZOFFSETTO:-0700
TZNAME:PDT
DTSTART:20170312T100000
END:DAYLIGHT
BEGIN:STANDARD
TZOFFSETFROM:-0700
TZOFFSETTO:-0800
TZNAME:PST
DTSTART:20171105T090000
END:STANDARD
TZID:America/Chicago
BEGIN:DAYLIGHT
TZOFFSETFROM:-0600
TZOFFSETTO:-0500
TZNAME:CDT
DTSTART:20170312T080000
END:DAYLIGHT
BEGIN:STANDARD
TZOFFSETFROM:-0500
TZOFFSETTO:-0600
TZNAME:CST
DTSTART:20171105T070000
END:STANDARD
TZID:Asia/Tokyo
BEGIN:STANDARD
TZOFFSETFROM:+0900
TZOFFSETTO:+0900
TZNAME:JST
DTSTART:20170101T000000
END:STANDARD
TZID:Europe/London
BEGIN:DAYLIGHT
TZOFFSETFROM:+0000
TZOFFSETTO:+0100
TZNAME:BST
DTSTART:20170326T010000
END:DAYLIGHT
BEGIN:STANDARD
TZOFFSETFROM:+0100
TZOFFSETTO:+0000
TZNAME:GMT
DTSTART:20171029T010000
END:STANDARD
END:VTIMEZONE
BEGIN:VEVENT
DTSTART;TZID=America/Los_Angeles:20170513T190000
DTEND;TZID=America/Los_Angeles:20170513T200000
DTSTAMP:20260422T134409
CREATED:20170508T043907Z
LAST-MODIFIED:20170508T043907Z
UID:13797-1494702000-1494705600@uo.com
SUMMARY:Pacific - Discovery
DESCRIPTION:May 13 @ 7PM PST
URL:https://uo.com/event/pacific-discovery/
CATEGORIES:EM Event
END:VEVENT
BEGIN:VEVENT
DTSTART;TZID=America/Chicago:20170513T200000
DTEND;TZID=America/Chicago:20170513T210000
DTSTAMP:20260422T134409
CREATED:20170503T002719Z
LAST-MODIFIED:20170503T002719Z
UID:13754-1494705600-1494709200@uo.com
SUMMARY:Lake Austin -Governor's Meeting
DESCRIPTION:All interested and/or concerned citizens encouraged to attend. \n8PM Central
URL:https://uo.com/event/lake-austin-governors-meeting-5/
CATEGORIES:EM Event
END:VEVENT
BEGIN:VEVENT
DTSTART;TZID=Asia/Tokyo:20170513T220000
DTEND;TZID=Asia/Tokyo:20170513T230000
DTSTAMP:20260422T134409
CREATED:20170409T051124Z
LAST-MODIFIED:20170409T051756Z
UID:13526-1494712800-1494716400@uo.com
SUMMARY:Mizuho - Mini Event
DESCRIPTION:TBD
URL:https://uo.com/event/mizuho-mini-event-5/
LOCATION:TBD
CATEGORIES:EM Event
END:VEVENT
BEGIN:VEVENT
DTSTART;TZID=Europe/London:20170513T220000
DTEND;TZID=Europe/London:20170513T230000
DTSTAMP:20260422T134409
CREATED:20170420T180405Z
LAST-MODIFIED:20170420T180405Z
UID:13682-1494712800-1494716400@uo.com
SUMMARY:Siege Perilous - Venture into the Void
DESCRIPTION:May 13th\, 5 pm Eastern Time\, 10 pm British Summertime\, 2 am Indian Standard Time \nBlackthorn stepped carefully over the grey-black corpse of the many-tentacled horror\, flanked on either side by his red-and-black watchmen. His eyes were not on the many fallen corpses of the invaders\, but the horrific sight of what had once been one of Trinsic’s paladins\, now splattered across the side of a house\, a deep indentation in the wall where the man’s body had been flung against it. \nAll about him\, in the now-red grass\, were body parts\, still covered with the remains of various types of armour. Ring mail\, chain mail\, even plate – shredded\, as if it was a scribe’s scroll. And none of the fallen could be raised\, no matter how the healers tried. The black slime that clung to their bodies seemed to prevent any attempt to call the dead back to life. \nNot so very far away\, he could hear grown men weeping\, groaning in agony\, and new widows wailing for their lost husbands. A head garishly decorated the chimney of a nearby house\, blood still dripping from it\, running down the roof. \n“Get that poor man’s head down from there\, and try to give these people a – a – a decent burial.” he ordered. ‘Burial’. It had been so long since he had even heard the term. So long ago that he could not even remember who it was for – but\, that was what you did with a body that could not return to life\, wasn’t it? He wished he knew for certain. There were graveyards across the land\, but when was the last time anyone had actually needed one? Apart from the vampires\, of course. \n“My lord\, you need to see this!” \nA young mage arrived at his side\, breathless\, and waving a scroll. With great effort\, Blackthorn pulled his eyes away from the carnage of Trinsic\, and read the contents of the scroll. \n“Summon Commander Bhaltair. We have what we needed. These creatures will pay for what they have done\, and these brave paladins will be avenged!” \nHe crumpled the scroll\, and strode towards a pair of mages who were maintaining a moongate back to Britain. Finally\, some good news – but where was he sending his warriors? \n \n  \nWhat you need to know \n\nGates will be provided in the usual places.\nThis event will be very\, very far from any guard zones.\nTown Criers will do their usual thing.\nWandering Healers will also do their usual thing.\nReminders will be made via general chat an hour before the event.\nStriped shirts and Tartan leggings do not go together well.
URL:https://uo.com/event/siege-perilous-venture-into-the-void/
LOCATION:Siege Perilous
CATEGORIES:EM Event
END:VEVENT
END:VCALENDAR