BEGIN:VCALENDAR
VERSION:2.0
PRODID:-//Ultima Online - ECPv5.16.4.1//NONSGML v1.0//EN
CALSCALE:GREGORIAN
METHOD:PUBLISH
X-WR-CALNAME:Ultima Online
X-ORIGINAL-URL:https://uo.com
X-WR-CALDESC:Events for Ultima Online
BEGIN:VTIMEZONE
TZID:America/Los_Angeles
BEGIN:DAYLIGHT
TZOFFSETFROM:-0800
TZOFFSETTO:-0700
TZNAME:PDT
DTSTART:20170312T100000
END:DAYLIGHT
BEGIN:STANDARD
TZOFFSETFROM:-0700
TZOFFSETTO:-0800
TZNAME:PST
DTSTART:20171105T090000
END:STANDARD
TZID:America/New_York
BEGIN:DAYLIGHT
TZOFFSETFROM:-0500
TZOFFSETTO:-0400
TZNAME:EDT
DTSTART:20170312T070000
END:DAYLIGHT
BEGIN:STANDARD
TZOFFSETFROM:-0400
TZOFFSETTO:-0500
TZNAME:EST
DTSTART:20171105T060000
END:STANDARD
END:VTIMEZONE
BEGIN:VEVENT
DTSTART;TZID=America/Los_Angeles:20170517T190000
DTEND;TZID=America/Los_Angeles:20170517T200000
DTSTAMP:20260422T134804
CREATED:20170505T013405Z
LAST-MODIFIED:20170505T013405Z
UID:13777-1495047600-1495051200@uo.com
SUMMARY:Baja - The Slumbering Tree
DESCRIPTION:Vladimir the Ranger asks for your assistance in dealing with some brigands who are destroying a sacred grove of trees!
URL:https://uo.com/event/baja-the-slumbering-tree/
LOCATION:Meet At Counselor Hall
CATEGORIES:EM Event
END:VEVENT
BEGIN:VEVENT
DTSTART;TZID=America/New_York:20170517T220000
DTEND;TZID=America/New_York:20170517T230000
DTSTAMP:20260422T134804
CREATED:20170502T161114Z
LAST-MODIFIED:20170502T161114Z
UID:13746-1495058400-1495062000@uo.com
SUMMARY:Sonoma - The Philosopher's Stone Part III
DESCRIPTION:The Royal Britannian Guard is called to arms on Wednesday\, 5/17 @ 7pm PST (10pm EST). Meet Commander Chimaera in the war room in Serpent’s Hold.
URL:https://uo.com/event/sonoma-the-philosophers-stone-part-iii/
CATEGORIES:EM Event
END:VEVENT
END:VCALENDAR