BEGIN:VCALENDAR
VERSION:2.0
PRODID:-//Ultima Online - ECPv5.16.4.1//NONSGML v1.0//EN
CALSCALE:GREGORIAN
METHOD:PUBLISH
X-WR-CALNAME:Ultima Online
X-ORIGINAL-URL:https://uo.com
X-WR-CALDESC:Events for Ultima Online
BEGIN:VTIMEZONE
TZID:America/New_York
BEGIN:DAYLIGHT
TZOFFSETFROM:-0500
TZOFFSETTO:-0400
TZNAME:EDT
DTSTART:20170312T070000
END:DAYLIGHT
BEGIN:STANDARD
TZOFFSETFROM:-0400
TZOFFSETTO:-0500
TZNAME:EST
DTSTART:20171105T060000
END:STANDARD
END:VTIMEZONE
BEGIN:VEVENT
DTSTART;TZID=America/New_York:20170518T200000
DTEND;TZID=America/New_York:20170518T210000
DTSTAMP:20260422T134908
CREATED:20170430T153712Z
LAST-MODIFIED:20170430T154049Z
UID:13725-1495137600-1495141200@uo.com
SUMMARY:Legends - A Stroll through a Troubled Soul (RP Event)
DESCRIPTION:On Thursday\, May 18th at 8:00 PM EST\, meet at the location uncovered by the previous investigation to continue the search. \nNote: This will be a roleplay event with very little combat.
URL:https://uo.com/event/legends-a-stroll-through-a-troubled-soul-rp-event/
LOCATION:Legends
CATEGORIES:EM Event
END:VEVENT
END:VCALENDAR