BEGIN:VCALENDAR
VERSION:2.0
PRODID:-//Ultima Online - ECPv5.16.4.1//NONSGML v1.0//EN
CALSCALE:GREGORIAN
METHOD:PUBLISH
X-WR-CALNAME:Ultima Online
X-ORIGINAL-URL:https://uo.com
X-WR-CALDESC:Events for Ultima Online
BEGIN:VTIMEZONE
TZID:America/Los_Angeles
BEGIN:DAYLIGHT
TZOFFSETFROM:-0800
TZOFFSETTO:-0700
TZNAME:PDT
DTSTART:20170312T100000
END:DAYLIGHT
BEGIN:STANDARD
TZOFFSETFROM:-0700
TZOFFSETTO:-0800
TZNAME:PST
DTSTART:20171105T090000
END:STANDARD
TZID:America/New_York
BEGIN:DAYLIGHT
TZOFFSETFROM:-0500
TZOFFSETTO:-0400
TZNAME:EDT
DTSTART:20170312T070000
END:DAYLIGHT
BEGIN:STANDARD
TZOFFSETFROM:-0400
TZOFFSETTO:-0500
TZNAME:EST
DTSTART:20171105T060000
END:STANDARD
TZID:Asia/Tokyo
BEGIN:STANDARD
TZOFFSETFROM:+0900
TZOFFSETTO:+0900
TZNAME:JST
DTSTART:20170101T000000
END:STANDARD
END:VTIMEZONE
BEGIN:VEVENT
DTSTART;TZID=America/Los_Angeles:20170520T190000
DTEND;TZID=America/Los_Angeles:20170520T200000
DTSTAMP:20260422T134250
CREATED:20170508T044152Z
LAST-MODIFIED:20170508T044152Z
UID:13799-1495306800-1495310400@uo.com
SUMMARY:Pacific - And Then One Arose
DESCRIPTION:May 20 @ 7PM PST
URL:https://uo.com/event/pacific-and-then-one-arose/
CATEGORIES:EM Event
END:VEVENT
BEGIN:VEVENT
DTSTART;TZID=America/New_York:20170520T200000
DTEND;TZID=America/New_York:20170520T210000
DTSTAMP:20260422T134250
CREATED:20170506T100821Z
LAST-MODIFIED:20170506T100821Z
UID:13793-1495310400-1495314000@uo.com
SUMMARY:Arirang - Special Materials II
DESCRIPTION:Event Schedule \nDate/Time: May 20th\, 2017 08:00PM KST\nMeeting Place: Britain EM Hall \nEvent Story \nHanse able to get the true silver ore from Beallon the ancient elemental whom suffered by mysterious poisonous vines. Now Hanse is heading back to Grier with it\, but another adventure awaits him to temper it. Join him and travel another journey for new adventure! \nCaution! \nWe’re expecting battle in this event\, please insure your precious items or leave them to your bank box. Event time is not that long so we’ll start it right in time. \nWarning \nIf anyone disrupt the event\, spamming\, insulting\, and harassing others or EM\, event will be stopped until the situation is handled. Please be advice that any inappropriate behavior will noted to your account\, and some of them can be fatal. EM will trying to hear your suggestion\, complain\, question\, and feedback willingly. Even though EM willing to hear and deal with the issue\, please note that there are some things that EM cannot deal with. \nEvent Chat Channel \nDuring the event\, we’ll use “Arirang EM Event” chat channel. To communicate with EM\, it is highly recommended to join the channel. EM will not take any responsibility for any penalties of information because of this.
URL:https://uo.com/event/arirang-special-materials-ii/
LOCATION:Arirang
CATEGORIES:EM Event
END:VEVENT
BEGIN:VEVENT
DTSTART;TZID=Asia/Tokyo:20170520T220000
DTEND;TZID=Asia/Tokyo:20170520T230000
DTSTAMP:20260422T134250
CREATED:20170409T051317Z
LAST-MODIFIED:20170409T051644Z
UID:13528-1495317600-1495321200@uo.com
SUMMARY:Yamato - The King's visit to Moonglow
DESCRIPTION:※ Role Play session only. This event requires everyone is “in-character”\, and thus roleplay is expected of all who attend. \nThe King visits Moonglow to examine the town closely to find local needs\, problems\, and solutions. \nThe further more towns will be visited during the first half of this year.
URL:https://uo.com/event/yamato-the-kings-visit-to-moonglow/
LOCATION:Moonglow City Stone
CATEGORIES:EM Event
END:VEVENT
END:VCALENDAR