BEGIN:VCALENDAR
VERSION:2.0
PRODID:-//Ultima Online - ECPv5.16.4.1//NONSGML v1.0//EN
CALSCALE:GREGORIAN
METHOD:PUBLISH
X-WR-CALNAME:Ultima Online
X-ORIGINAL-URL:https://uo.com
X-WR-CALDESC:Events for Ultima Online
BEGIN:VTIMEZONE
TZID:America/Los_Angeles
BEGIN:DAYLIGHT
TZOFFSETFROM:-0800
TZOFFSETTO:-0700
TZNAME:PDT
DTSTART:20170312T100000
END:DAYLIGHT
BEGIN:STANDARD
TZOFFSETFROM:-0700
TZOFFSETTO:-0800
TZNAME:PST
DTSTART:20171105T090000
END:STANDARD
TZID:America/New_York
BEGIN:DAYLIGHT
TZOFFSETFROM:-0500
TZOFFSETTO:-0400
TZNAME:EDT
DTSTART:20170312T070000
END:DAYLIGHT
BEGIN:STANDARD
TZOFFSETFROM:-0400
TZOFFSETTO:-0500
TZNAME:EST
DTSTART:20171105T060000
END:STANDARD
END:VTIMEZONE
BEGIN:VEVENT
DTSTART;TZID=America/Los_Angeles:20170522T190000
DTEND;TZID=America/Los_Angeles:20170522T200000
DTSTAMP:20260422T135003
CREATED:20170513T215106Z
LAST-MODIFIED:20170513T215106Z
UID:13843-1495479600-1495483200@uo.com
SUMMARY:Napa Valley - Meet at Castle Blackthorn
DESCRIPTION:
URL:https://uo.com/event/napa-valley-meet-at-castle-blackthorn/
CATEGORIES:EM Event
END:VEVENT
BEGIN:VEVENT
DTSTART;TZID=America/New_York:20170522T190000
DTEND;TZID=America/New_York:20170522T210000
DTSTAMP:20260422T135003
CREATED:20170520T212559Z
LAST-MODIFIED:20170520T212559Z
UID:13863-1495479600-1495486800@uo.com
SUMMARY:Catskills - Pike Faire
DESCRIPTION:“King” Sev invites all to another Pike Faire!
URL:https://uo.com/event/catskills-pike-faire/
LOCATION:Catskills
CATEGORIES:EM Event
END:VEVENT
BEGIN:VEVENT
DTSTART;TZID=America/New_York:20170522T200000
DTEND;TZID=America/New_York:20170522T210000
DTSTAMP:20260422T135003
CREATED:20170518T215937Z
LAST-MODIFIED:20170518T215937Z
UID:13857-1495483200-1495486800@uo.com
SUMMARY:Atlantic - A Second Piece
DESCRIPTION:
URL:https://uo.com/event/atlantic-a-second-piece/
CATEGORIES:EM Event
END:VEVENT
END:VCALENDAR