BEGIN:VCALENDAR
VERSION:2.0
PRODID:-//Ultima Online - ECPv5.16.4.1//NONSGML v1.0//EN
CALSCALE:GREGORIAN
METHOD:PUBLISH
X-WR-CALNAME:Ultima Online
X-ORIGINAL-URL:https://uo.com
X-WR-CALDESC:Events for Ultima Online
BEGIN:VTIMEZONE
TZID:America/Chicago
BEGIN:DAYLIGHT
TZOFFSETFROM:-0600
TZOFFSETTO:-0500
TZNAME:CDT
DTSTART:20170312T080000
END:DAYLIGHT
BEGIN:STANDARD
TZOFFSETFROM:-0500
TZOFFSETTO:-0600
TZNAME:CST
DTSTART:20171105T070000
END:STANDARD
TZID:Europe/London
BEGIN:DAYLIGHT
TZOFFSETFROM:+0000
TZOFFSETTO:+0100
TZNAME:BST
DTSTART:20170326T010000
END:DAYLIGHT
BEGIN:STANDARD
TZOFFSETFROM:+0100
TZOFFSETTO:+0000
TZNAME:GMT
DTSTART:20171029T010000
END:STANDARD
TZID:America/New_York
BEGIN:DAYLIGHT
TZOFFSETFROM:-0500
TZOFFSETTO:-0400
TZNAME:EDT
DTSTART:20170312T070000
END:DAYLIGHT
BEGIN:STANDARD
TZOFFSETFROM:-0400
TZOFFSETTO:-0500
TZNAME:EST
DTSTART:20171105T060000
END:STANDARD
END:VTIMEZONE
BEGIN:VEVENT
DTSTART;TZID=America/Chicago:20170523T200000
DTEND;TZID=America/Chicago:20170523T200000
DTSTAMP:20260422T135759
CREATED:20170505T032026Z
LAST-MODIFIED:20170505T032026Z
UID:13789-1495569600-1495569600@uo.com
SUMMARY:Great Lakes - Royal Spy Mission
DESCRIPTION:This Royal Spy mission has the codename “Contorsion”. To attend\, go to the Britain Counselor Hall and investigate the suit of armor.
URL:https://uo.com/event/great-lakes-royal-spy-mission-45/
LOCATION:Great Lakes – Counselor Hall
CATEGORIES:EM Event
END:VEVENT
BEGIN:VEVENT
DTSTART;TZID=Europe/London:20170523T203000
DTEND;TZID=Europe/London:20170523T213000
DTSTAMP:20260422T135759
CREATED:20170516T204850Z
LAST-MODIFIED:20170516T204850Z
UID:13853-1495571400-1495575000@uo.com
SUMMARY:Europa ^ Toads Go Amok!!
DESCRIPTION:
URL:https://uo.com/event/europa-toads-go-amok/
LOCATION:EM Counselor Hall (Britain)
CATEGORIES:EM Event
ORGANIZER;CN="EM%20Kimmie":MAILTO:kimmie@uoem.net
END:VEVENT
BEGIN:VEVENT
DTSTART;TZID=America/New_York:20170523T210000
DTEND;TZID=America/New_York:20170523T220000
DTSTAMP:20260422T135759
CREATED:20170504T121943Z
LAST-MODIFIED:20170504T121943Z
UID:13767-1495573200-1495576800@uo.com
SUMMARY:Chessy - The Portal... - May 23rd - 9pm EST
DESCRIPTION:Please join Samuel Kluttz III as we attempt to close the portal in Moonglow! Should be a Bloody good time.
URL:https://uo.com/event/chessy-the-portal-may-23rd-9pm-est/
LOCATION:Chesapeake
CATEGORIES:EM Event
END:VEVENT
END:VCALENDAR