BEGIN:VCALENDAR
VERSION:2.0
PRODID:-//Ultima Online - ECPv5.16.4.1//NONSGML v1.0//EN
CALSCALE:GREGORIAN
METHOD:PUBLISH
X-WR-CALNAME:Ultima Online
X-ORIGINAL-URL:https://uo.com
X-WR-CALDESC:Events for Ultima Online
BEGIN:VTIMEZONE
TZID:America/New_York
BEGIN:DAYLIGHT
TZOFFSETFROM:-0500
TZOFFSETTO:-0400
TZNAME:EDT
DTSTART:20170312T070000
END:DAYLIGHT
BEGIN:STANDARD
TZOFFSETFROM:-0400
TZOFFSETTO:-0500
TZNAME:EST
DTSTART:20171105T060000
END:STANDARD
TZID:Europe/Berlin
BEGIN:DAYLIGHT
TZOFFSETFROM:+0100
TZOFFSETTO:+0200
TZNAME:CEST
DTSTART:20170326T010000
END:DAYLIGHT
BEGIN:STANDARD
TZOFFSETFROM:+0200
TZOFFSETTO:+0100
TZNAME:CET
DTSTART:20171029T010000
END:STANDARD
TZID:Europe/London
BEGIN:DAYLIGHT
TZOFFSETFROM:+0000
TZOFFSETTO:+0100
TZNAME:BST
DTSTART:20170326T010000
END:DAYLIGHT
BEGIN:STANDARD
TZOFFSETFROM:+0100
TZOFFSETTO:+0000
TZNAME:GMT
DTSTART:20171029T010000
END:STANDARD
TZID:Australia/Sydney
BEGIN:STANDARD
TZOFFSETFROM:+1100
TZOFFSETTO:+1000
TZNAME:AEST
DTSTART:20170401T160000
END:STANDARD
BEGIN:DAYLIGHT
TZOFFSETFROM:+1000
TZOFFSETTO:+1100
TZNAME:AEDT
DTSTART:20170930T160000
END:DAYLIGHT
END:VTIMEZONE
BEGIN:VEVENT
DTSTART;TZID=America/New_York:20170528T190000
DTEND;TZID=America/New_York:20170528T210000
DTSTAMP:20260422T134256
CREATED:20170527T120258Z
LAST-MODIFIED:20170527T120258Z
UID:13935-1495998000-1496005200@uo.com
SUMMARY:Catskills - Governors Meeting
DESCRIPTION:Governors to meet at Castle Blackthorn!
URL:https://uo.com/event/catskills-governors-meeting-11/
LOCATION:Catskills
CATEGORIES:EM Event
END:VEVENT
BEGIN:VEVENT
DTSTART;TZID=America/New_York:20170528T200000
DTEND;TZID=America/New_York:20170528T210000
DTSTAMP:20260422T134256
CREATED:20170518T220028Z
LAST-MODIFIED:20170518T220028Z
UID:13859-1496001600-1496005200@uo.com
SUMMARY:Atlantic - Conseil du Roi
DESCRIPTION:
URL:https://uo.com/event/atlantic-conseil-du-roi-4/
CATEGORIES:EM Event
END:VEVENT
BEGIN:VEVENT
DTSTART;TZID=Europe/Berlin:20170528T203000
DTEND;TZID=Europe/Berlin:20170528T213000
DTSTAMP:20260422T134256
CREATED:20170503T164713Z
LAST-MODIFIED:20170503T164713Z
UID:13758-1496003400-1496007000@uo.com
SUMMARY:Drachenfels: Royal Audience | Königliche Audienz
DESCRIPTION:Time: 8:30pm CEST (UTC+2).  Location: Castle Blackthorn\, Britain\, Trammel.\nA Royal Audience will be held. Afterwards a HoF (RP) Game Night (Luna\, Fairegrounds) will follow. \n \nZeit: 20:30 Uhr CEST (UTC+2). Ort: Schloss Blackthorn\, Britain\, Trammel.\nEine Königliche Audienz wird abgehalten. Danach findet ein HoF (RP) Spiel Abend (Luna\, Festgelände) statt.
URL:https://uo.com/event/drachenfels-royal-audience-konigliche-audienz-14/
LOCATION:Drachenfels
CATEGORIES:EM Event
END:VEVENT
BEGIN:VEVENT
DTSTART;TZID=Europe/London:20170528T203000
DTEND;TZID=Europe/London:20170528T210000
DTSTAMP:20260422T134256
CREATED:20170521T050045Z
LAST-MODIFIED:20170521T050045Z
UID:13869-1496003400-1496005200@uo.com
SUMMARY:Europa ^ The Kings’ Gathering
DESCRIPTION:
URL:https://uo.com/event/europa-the-kings-gathering-5/
LOCATION:Blackthorn Castle meeting room
CATEGORIES:EM Event
ORGANIZER;CN="EM%20Kimmie":MAILTO:kimmie@uoem.net
END:VEVENT
BEGIN:VEVENT
DTSTART;TZID=Europe/London:20170528T210000
DTEND;TZID=Europe/London:20170528T220000
DTSTAMP:20260422T134256
CREATED:20170510T205934Z
LAST-MODIFIED:20170510T210042Z
UID:13831-1496005200-1496008800@uo.com
SUMMARY:Europa - The Heedless Knight: Gold hunters
DESCRIPTION:Help Albert to retrive a legendary gold vein… \n9 PM UK Time EM Hall
URL:https://uo.com/event/europa-the-heedless-knight-gold-hunters/
CATEGORIES:EM Event
END:VEVENT
BEGIN:VEVENT
DTSTART;TZID=Australia/Sydney:20170528T210000
DTEND;TZID=Australia/Sydney:20170528T220000
DTSTAMP:20260422T134256
CREATED:20170520T220934Z
LAST-MODIFIED:20170520T221337Z
UID:13865-1496005200-1496008800@uo.com
SUMMARY:The End Of The Catalyst Of Evil Part 1
DESCRIPTION:It has begun\, the end of the reign of the Catalyst of Evil. Tim a noble miner\, has spotted the Catalyst. He has called for AID from the Oceania Army. In defending his favourite Village from the waves of the Catalyst. Lastly\, he claims he has vital information on how to defeat the Catalyst in the future. \n  \nSorry for putting this up late! I hope you can all make it.
URL:https://uo.com/event/the-end-of-the-catalyst-of-evil-part-1/
LOCATION:EM Counselor Hall (Britain)
CATEGORIES:EM Event
END:VEVENT
BEGIN:VEVENT
DTSTART;TZID=America/New_York:20170528T220000
DTEND;TZID=America/New_York:20170528T230000
DTSTAMP:20260422T134256
CREATED:20170502T160819Z
LAST-MODIFIED:20170502T161654Z
UID:13744-1496008800-1496012400@uo.com
SUMMARY:Sonoma - Governors Meeting
DESCRIPTION:King Blackthorn requests the presence of all citizens to the monthly governors meeting on Sunday\, April 28th @ 7pm PST (10pm EST).
URL:https://uo.com/event/sonoma-governors-meeting-9/
CATEGORIES:EM Event
END:VEVENT
END:VCALENDAR