BEGIN:VCALENDAR
VERSION:2.0
PRODID:-//Ultima Online - ECPv5.16.4.1//NONSGML v1.0//EN
CALSCALE:GREGORIAN
METHOD:PUBLISH
X-WR-CALNAME:Ultima Online
X-ORIGINAL-URL:https://uo.com
X-WR-CALDESC:Events for Ultima Online
BEGIN:VTIMEZONE
TZID:America/New_York
BEGIN:DAYLIGHT
TZOFFSETFROM:-0500
TZOFFSETTO:-0400
TZNAME:EDT
DTSTART:20170312T070000
END:DAYLIGHT
BEGIN:STANDARD
TZOFFSETFROM:-0400
TZOFFSETTO:-0500
TZNAME:EST
DTSTART:20171105T060000
END:STANDARD
TZID:America/Los_Angeles
BEGIN:DAYLIGHT
TZOFFSETFROM:-0800
TZOFFSETTO:-0700
TZNAME:PDT
DTSTART:20170312T100000
END:DAYLIGHT
BEGIN:STANDARD
TZOFFSETFROM:-0700
TZOFFSETTO:-0800
TZNAME:PST
DTSTART:20171105T090000
END:STANDARD
END:VTIMEZONE
BEGIN:VEVENT
DTSTART;VALUE=DATE:20170529
DTEND;VALUE=DATE:20170603
DTSTAMP:20260422T120249
CREATED:20170518T220203Z
LAST-MODIFIED:20170518T220203Z
UID:13861-1496016000-1496447999@uo.com
SUMMARY:Atlantic - Self Paced Event: "Research and Methods"
DESCRIPTION:
URL:https://uo.com/event/atlantic-self-paced-event-research-and-methods/
CATEGORIES:EM Event
END:VEVENT
BEGIN:VEVENT
DTSTART;TZID=America/Los_Angeles:20170529T190000
DTEND;TZID=America/Los_Angeles:20170529T200000
DTSTAMP:20260422T120249
CREATED:20170513T215155Z
LAST-MODIFIED:20170513T215155Z
UID:13845-1496084400-1496088000@uo.com
SUMMARY:Napa Valley - Meet at Castle Blackthorn
DESCRIPTION:
URL:https://uo.com/event/napa-valley-meet-at-castle-blackthorn-2/
CATEGORIES:EM Event
END:VEVENT
BEGIN:VEVENT
DTSTART;TZID=America/New_York:20170529T190000
DTEND;TZID=America/New_York:20170529T210000
DTSTAMP:20260422T120249
CREATED:20170527T120353Z
LAST-MODIFIED:20170527T120353Z
UID:13936-1496084400-1496091600@uo.com
SUMMARY:Catskills - The Forgotten
DESCRIPTION:Commander Brodgar calls upon the RBG to gather in Serpents Hold!
URL:https://uo.com/event/catskills-the-forgotten-17/
LOCATION:Catskills
CATEGORIES:EM Event
END:VEVENT
END:VCALENDAR