BEGIN:VCALENDAR
VERSION:2.0
PRODID:-//Ultima Online - ECPv5.16.4.1//NONSGML v1.0//EN
CALSCALE:GREGORIAN
METHOD:PUBLISH
X-WR-CALNAME:Ultima Online
X-ORIGINAL-URL:https://uo.com
X-WR-CALDESC:Events for Ultima Online
BEGIN:VTIMEZONE
TZID:America/New_York
BEGIN:DAYLIGHT
TZOFFSETFROM:-0500
TZOFFSETTO:-0400
TZNAME:EDT
DTSTART:20170312T070000
END:DAYLIGHT
BEGIN:STANDARD
TZOFFSETFROM:-0400
TZOFFSETTO:-0500
TZNAME:EST
DTSTART:20171105T060000
END:STANDARD
TZID:America/Los_Angeles
BEGIN:DAYLIGHT
TZOFFSETFROM:-0800
TZOFFSETTO:-0700
TZNAME:PDT
DTSTART:20170312T100000
END:DAYLIGHT
BEGIN:STANDARD
TZOFFSETFROM:-0700
TZOFFSETTO:-0800
TZNAME:PST
DTSTART:20171105T090000
END:STANDARD
TZID:America/Chicago
BEGIN:DAYLIGHT
TZOFFSETFROM:-0600
TZOFFSETTO:-0500
TZNAME:CDT
DTSTART:20170312T080000
END:DAYLIGHT
BEGIN:STANDARD
TZOFFSETFROM:-0500
TZOFFSETTO:-0600
TZNAME:CST
DTSTART:20171105T070000
END:STANDARD
TZID:Asia/Seoul
BEGIN:STANDARD
TZOFFSETFROM:+0900
TZOFFSETTO:+0900
TZNAME:KST
DTSTART:20170101T000000
END:STANDARD
END:VTIMEZONE
BEGIN:VEVENT
DTSTART;VALUE=DATE:20170529
DTEND;VALUE=DATE:20170603
DTSTAMP:20260422T120319
CREATED:20170518T220203Z
LAST-MODIFIED:20170518T220203Z
UID:13861-1496016000-1496447999@uo.com
SUMMARY:Atlantic - Self Paced Event: "Research and Methods"
DESCRIPTION:
URL:https://uo.com/event/atlantic-self-paced-event-research-and-methods/
CATEGORIES:EM Event
END:VEVENT
BEGIN:VEVENT
DTSTART;TZID=America/Los_Angeles:20170530T190000
DTEND;TZID=America/Los_Angeles:20170530T200000
DTSTAMP:20260422T120319
CREATED:20170525T150631Z
LAST-MODIFIED:20170525T150631Z
UID:13926-1496170800-1496174400@uo.com
SUMMARY:Origin ~ Fuddy Wuddys BBQ!
DESCRIPTION:
URL:https://uo.com/event/origin-fuddy-wuddys-bbq/
CATEGORIES:EM Event
END:VEVENT
BEGIN:VEVENT
DTSTART;TZID=America/Chicago:20170530T200000
DTEND;TZID=America/Chicago:20170530T200000
DTSTAMP:20260422T120319
CREATED:20170505T032211Z
LAST-MODIFIED:20170505T032211Z
UID:13791-1496174400-1496174400@uo.com
SUMMARY:Great Lakes - Royal Guard Mission
DESCRIPTION:This Royal Britannian Guard mission has the codename  “Clockwork”. To attend\, go through the moongate inside the Britain Counselor Hall.
URL:https://uo.com/event/great-lakes-royal-guard-mission/
LOCATION:Great Lakes – Counselor Hall
CATEGORIES:EM Event
END:VEVENT
BEGIN:VEVENT
DTSTART;TZID=Asia/Seoul:20170530T210000
DTEND;TZID=Asia/Seoul:20170530T230000
DTSTAMP:20260422T120319
CREATED:20170528T212551Z
LAST-MODIFIED:20170528T212551Z
UID:13939-1496178000-1496185200@uo.com
SUMMARY:Balhae Yuki Adventure in a Bar
DESCRIPTION:Continues story
URL:https://uo.com/event/balhae-yuki-adventure-in-a-bar/
LOCATION:Balhae EM Britain Hall
CATEGORIES:EM Event
END:VEVENT
END:VCALENDAR