BEGIN:VCALENDAR
VERSION:2.0
PRODID:-//Ultima Online - ECPv5.16.4.1//NONSGML v1.0//EN
CALSCALE:GREGORIAN
METHOD:PUBLISH
X-WR-CALNAME:Ultima Online
X-ORIGINAL-URL:https://uo.com
X-WR-CALDESC:Events for Ultima Online
BEGIN:VTIMEZONE
TZID:America/New_York
BEGIN:DAYLIGHT
TZOFFSETFROM:-0500
TZOFFSETTO:-0400
TZNAME:EDT
DTSTART:20170312T070000
END:DAYLIGHT
BEGIN:STANDARD
TZOFFSETFROM:-0400
TZOFFSETTO:-0500
TZNAME:EST
DTSTART:20171105T060000
END:STANDARD
TZID:America/Los_Angeles
BEGIN:DAYLIGHT
TZOFFSETFROM:-0800
TZOFFSETTO:-0700
TZNAME:PDT
DTSTART:20170312T100000
END:DAYLIGHT
BEGIN:STANDARD
TZOFFSETFROM:-0700
TZOFFSETTO:-0800
TZNAME:PST
DTSTART:20171105T090000
END:STANDARD
TZID:Asia/Taipei
BEGIN:STANDARD
TZOFFSETFROM:+0800
TZOFFSETTO:+0800
TZNAME:CST
DTSTART:20170101T000000
END:STANDARD
END:VTIMEZONE
BEGIN:VEVENT
DTSTART;VALUE=DATE:20170529
DTEND;VALUE=DATE:20170603
DTSTAMP:20260422T120413
CREATED:20170518T220203Z
LAST-MODIFIED:20170518T220203Z
UID:13861-1496016000-1496447999@uo.com
SUMMARY:Atlantic - Self Paced Event: "Research and Methods"
DESCRIPTION:
URL:https://uo.com/event/atlantic-self-paced-event-research-and-methods/
CATEGORIES:EM Event
END:VEVENT
BEGIN:VEVENT
DTSTART;TZID=America/Los_Angeles:20170531T190000
DTEND;TZID=America/Los_Angeles:20170531T200000
DTSTAMP:20260422T120413
CREATED:20170522T024650Z
LAST-MODIFIED:20170522T024650Z
UID:13871-1496257200-1496260800@uo.com
SUMMARY:Baja - The Last Stand
DESCRIPTION:Vladimir the Ranger has tracked down the remnants of the Red Goblin Army\, and needs your help to defeat them\, and rescue Richardson the Guard!
URL:https://uo.com/event/baja-the-last-stand/
LOCATION:Meet At Counselor Hall
CATEGORIES:EM Event
END:VEVENT
BEGIN:VEVENT
DTSTART;TZID=Asia/Taipei:20170531T210000
DTEND;TZID=Asia/Taipei:20170531T230000
DTSTAMP:20260422T120413
CREATED:20170528T212735Z
LAST-MODIFIED:20170528T212735Z
UID:13941-1496264400-1496271600@uo.com
SUMMARY:Formosa Attack Of Titan III(Power Crystal)
DESCRIPTION:Continues story arch
URL:https://uo.com/event/formosa-attack-of-titan-iiipower-crystal/
LOCATION:Formosa Britain EM Hall
CATEGORIES:EM Event
END:VEVENT
BEGIN:VEVENT
DTSTART;TZID=America/New_York:20170531T220000
DTEND;TZID=America/New_York:20170531T230000
DTSTAMP:20260422T120413
CREATED:20170502T161403Z
LAST-MODIFIED:20170502T161403Z
UID:13750-1496268000-1496271600@uo.com
SUMMARY:Sonoma - Pet Battle Royale Tournament
DESCRIPTION:Tamers\, bring your strongest critter for a head-to-head fight to the death on Wednesday\, 5/31 @ 7pm PST (10pm EST). The tournament will be bracketed\, and the winners will receive a plaque to be displayed in the EM Reward Hall as well as bragging rights for handling the most ferocious pet on Sonoma. Pet bonding is encouraged but not necessary for entry if you don’t mind losing your pet. The tournament will take place in a secluded safe area of Felucca.
URL:https://uo.com/event/sonoma-pet-battle-royale-tournament/
CATEGORIES:EM Event
END:VEVENT
END:VCALENDAR