BEGIN:VCALENDAR
VERSION:2.0
PRODID:-//Ultima Online - ECPv5.16.4.1//NONSGML v1.0//EN
CALSCALE:GREGORIAN
METHOD:PUBLISH
X-WR-CALNAME:Ultima Online
X-ORIGINAL-URL:https://uo.com
X-WR-CALDESC:Events for Ultima Online
BEGIN:VTIMEZONE
TZID:America/Chicago
BEGIN:DAYLIGHT
TZOFFSETFROM:-0600
TZOFFSETTO:-0500
TZNAME:CDT
DTSTART:20170312T080000
END:DAYLIGHT
BEGIN:STANDARD
TZOFFSETFROM:-0500
TZOFFSETTO:-0600
TZNAME:CST
DTSTART:20171105T070000
END:STANDARD
TZID:Europe/Berlin
BEGIN:DAYLIGHT
TZOFFSETFROM:+0100
TZOFFSETTO:+0200
TZNAME:CEST
DTSTART:20170326T010000
END:DAYLIGHT
BEGIN:STANDARD
TZOFFSETFROM:+0200
TZOFFSETTO:+0100
TZNAME:CET
DTSTART:20171029T010000
END:STANDARD
END:VTIMEZONE
BEGIN:VEVENT
DTSTART;TZID=America/Chicago:20170606T200000
DTEND;TZID=America/Chicago:20170606T200000
DTSTAMP:20260422T120251
CREATED:20170604T045334Z
LAST-MODIFIED:20170604T045334Z
UID:13981-1496779200-1496779200@uo.com
SUMMARY:Great Lakes - Royal Spy Mission
DESCRIPTION:This Royal Spy mission has the codename “Torque”. To attend\, go to the Britain Counselor Hall and investigate the suit of armor.
URL:https://uo.com/event/great-lakes-royal-spy-mission-46/
LOCATION:Great Lakes – Counselor Hall
CATEGORIES:EM Event
END:VEVENT
BEGIN:VEVENT
DTSTART;TZID=Europe/Berlin:20170606T203000
DTEND;TZID=Europe/Berlin:20170606T213000
DTSTAMP:20260422T120251
CREATED:20170602T073521Z
LAST-MODIFIED:20170602T073521Z
UID:13963-1496781000-1496784600@uo.com
SUMMARY:Drachenfels: X and Y... | X und Y...
DESCRIPTION:Time: 8:30pm CEST (UTC+2).  Location: Castle Blackthorn\, Trammel.\nMini HoF (RP) Event: X and Y… are mostly numbers! \nZeit: 20:30 Uhr CEST (UTC+2). Ort: Castle Blackthorn\, Trammel.\nMini HoF (RP) Event: X und Y… sind oft Nummern!
URL:https://uo.com/event/drachenfels-x-and-y-x-und-y/
LOCATION:Drachenfels
CATEGORIES:EM Event
END:VEVENT
END:VCALENDAR