BEGIN:VCALENDAR
VERSION:2.0
PRODID:-//Ultima Online - ECPv5.16.4.1//NONSGML v1.0//EN
CALSCALE:GREGORIAN
METHOD:PUBLISH
X-WR-CALNAME:Ultima Online
X-ORIGINAL-URL:https://uo.com
X-WR-CALDESC:Events for Ultima Online
BEGIN:VTIMEZONE
TZID:America/Los_Angeles
BEGIN:DAYLIGHT
TZOFFSETFROM:-0800
TZOFFSETTO:-0700
TZNAME:PDT
DTSTART:20170312T100000
END:DAYLIGHT
BEGIN:STANDARD
TZOFFSETFROM:-0700
TZOFFSETTO:-0800
TZNAME:PST
DTSTART:20171105T090000
END:STANDARD
TZID:Asia/Tokyo
BEGIN:STANDARD
TZOFFSETFROM:+0900
TZOFFSETTO:+0900
TZNAME:JST
DTSTART:20170101T000000
END:STANDARD
TZID:Europe/London
BEGIN:DAYLIGHT
TZOFFSETFROM:+0000
TZOFFSETTO:+0100
TZNAME:BST
DTSTART:20170326T010000
END:DAYLIGHT
BEGIN:STANDARD
TZOFFSETFROM:+0100
TZOFFSETTO:+0000
TZNAME:GMT
DTSTART:20171029T010000
END:STANDARD
END:VTIMEZONE
BEGIN:VEVENT
DTSTART;TZID=America/Los_Angeles:20170616T190000
DTEND;TZID=America/Los_Angeles:20170616T200000
DTSTAMP:20260422T120316
CREATED:20170607T024010Z
LAST-MODIFIED:20170607T024010Z
UID:14014-1497639600-1497643200@uo.com
SUMMARY:Baja - Salvage Hook Toss
DESCRIPTION:This month\, we will be setting sail\, and doing a salvage hook toss! Try your luck at the elusive golden fishing pole!
URL:https://uo.com/event/baja-salvage-hook-toss/
LOCATION:Meet At Counselor Hall
CATEGORIES:EM Event
END:VEVENT
BEGIN:VEVENT
DTSTART;TZID=Asia/Tokyo:20170616T220000
DTEND;TZID=Asia/Tokyo:20170616T220000
DTSTAMP:20260422T120316
CREATED:20170509T154305Z
LAST-MODIFIED:20170509T155433Z
UID:13812-1497650400-1497650400@uo.com
SUMMARY:Mizuho - Event
DESCRIPTION:TBD
URL:https://uo.com/event/mizuho-event-6/
CATEGORIES:EM Event
END:VEVENT
BEGIN:VEVENT
DTSTART;TZID=Europe/London:20170616T220000
DTEND;TZID=Europe/London:20170617T020000
DTSTAMP:20260422T120316
CREATED:20170525T142710Z
LAST-MODIFIED:20170525T142710Z
UID:13909-1497650400-1497664800@uo.com
SUMMARY:Siege Perilous - Y.A.T.H!  (Yet Another Treasure Hunt!)
DESCRIPTION:  \n  \n  \n  \n\nLast month\, we dug. Oh\, how we dug. We didn’t quite manage to dig all the way to Oceania\, but we gave it a good old fashioned Siege try! \nThis month\, since your bleary-eyed EM has recovered from the last night-long dig\, we’re going to try again! \nThe arrangement will be the same as last month. For those who weren’t able to make it\, here’s how it goes: \n\nWe will meet at the EM Hall.\nThe Royal Archaeologist’s Assistant will select a map at random\, and teleport to its location.\nA gate will then be sent back to the EM Hall to bring any interested players to that location.\nA gate will be available to get back to the EM Hall.\nThere will be a hub at the EM Hall to get to any governor run town\, in case you want to donate money to help with the various overpriced trade deals.\nThe Royal Archaeologist’s Assistant will dig up the chest.\nThe spawn is yours to do with as you will. Tame them\, kill them\, run away screaming\, take them out for dinner and a movie – your choice! Several people got some nice frost dragons from this last time\, and one or two dragon wolves were spotted. If a drake is more your speed\, there were plenty of those as well.\nA backpack will be placed on the ground for anyone to access\, and all loot will be moved from the chest to the backpack item by item\, so first come\, first served.\nIf you are training imbuing\, or looking for some good items to enhance\, it would be a good idea to bring a pack llama or a beetle with you! So it’s an event for crafters\, too!\nSome of the maps will be for Ilshenar. We didn’t have any paragon spawn show up last time\, but you never know what will happen!\nThis will run for at least 4 hours – 10 pm BST / 5 pm EST to 2 am BST / 9 pm EST! Maybe longer\, depending on how your EM’s stamina holds out!\n\n \n  \nWhat else you need to know: \n\nMoongates to the event location will be available from the usual places. Details are here.\nTown Criers will announce the event.\nReminders will appear in General Chat approximately one hour before the event.\nThe event will take place outside of a guard zone.\n\nWe will not be doing a treasure hunt EVERY month – unless there’s massive demand – \, but I will try to have some form of event later into the night as regularly as possible\, time and energy permitting! \nSpecial thanks go to Mesanna for providing the level 7 maps!
URL:https://uo.com/event/siege-perilous-y-a-t-h-yet-another-treasure-hunt/
CATEGORIES:EM Event
END:VEVENT
END:VCALENDAR