BEGIN:VCALENDAR
VERSION:2.0
PRODID:-//Ultima Online - ECPv5.16.4.1//NONSGML v1.0//EN
CALSCALE:GREGORIAN
METHOD:PUBLISH
X-WR-CALNAME:Ultima Online
X-ORIGINAL-URL:https://uo.com
X-WR-CALDESC:Events for Ultima Online
BEGIN:VTIMEZONE
TZID:Europe/London
BEGIN:DAYLIGHT
TZOFFSETFROM:+0000
TZOFFSETTO:+0100
TZNAME:BST
DTSTART:20170326T010000
END:DAYLIGHT
BEGIN:STANDARD
TZOFFSETFROM:+0100
TZOFFSETTO:+0000
TZNAME:GMT
DTSTART:20171029T010000
END:STANDARD
TZID:Asia/Seoul
BEGIN:STANDARD
TZOFFSETFROM:+0900
TZOFFSETTO:+0900
TZNAME:KST
DTSTART:20170101T000000
END:STANDARD
TZID:America/Chicago
BEGIN:DAYLIGHT
TZOFFSETFROM:-0600
TZOFFSETTO:-0500
TZNAME:CDT
DTSTART:20170312T080000
END:DAYLIGHT
BEGIN:STANDARD
TZOFFSETFROM:-0500
TZOFFSETTO:-0600
TZNAME:CST
DTSTART:20171105T070000
END:STANDARD
TZID:Asia/Tokyo
BEGIN:STANDARD
TZOFFSETFROM:+0900
TZOFFSETTO:+0900
TZNAME:JST
DTSTART:20170101T000000
END:STANDARD
END:VTIMEZONE
BEGIN:VEVENT
DTSTART;TZID=Europe/London:20170616T220000
DTEND;TZID=Europe/London:20170617T020000
DTSTAMP:20260422T120220
CREATED:20170525T142710Z
LAST-MODIFIED:20170525T142710Z
UID:13909-1497650400-1497664800@uo.com
SUMMARY:Siege Perilous - Y.A.T.H!  (Yet Another Treasure Hunt!)
DESCRIPTION:  \n  \n  \n  \n\nLast month\, we dug. Oh\, how we dug. We didn’t quite manage to dig all the way to Oceania\, but we gave it a good old fashioned Siege try! \nThis month\, since your bleary-eyed EM has recovered from the last night-long dig\, we’re going to try again! \nThe arrangement will be the same as last month. For those who weren’t able to make it\, here’s how it goes: \n\nWe will meet at the EM Hall.\nThe Royal Archaeologist’s Assistant will select a map at random\, and teleport to its location.\nA gate will then be sent back to the EM Hall to bring any interested players to that location.\nA gate will be available to get back to the EM Hall.\nThere will be a hub at the EM Hall to get to any governor run town\, in case you want to donate money to help with the various overpriced trade deals.\nThe Royal Archaeologist’s Assistant will dig up the chest.\nThe spawn is yours to do with as you will. Tame them\, kill them\, run away screaming\, take them out for dinner and a movie – your choice! Several people got some nice frost dragons from this last time\, and one or two dragon wolves were spotted. If a drake is more your speed\, there were plenty of those as well.\nA backpack will be placed on the ground for anyone to access\, and all loot will be moved from the chest to the backpack item by item\, so first come\, first served.\nIf you are training imbuing\, or looking for some good items to enhance\, it would be a good idea to bring a pack llama or a beetle with you! So it’s an event for crafters\, too!\nSome of the maps will be for Ilshenar. We didn’t have any paragon spawn show up last time\, but you never know what will happen!\nThis will run for at least 4 hours – 10 pm BST / 5 pm EST to 2 am BST / 9 pm EST! Maybe longer\, depending on how your EM’s stamina holds out!\n\n \n  \nWhat else you need to know: \n\nMoongates to the event location will be available from the usual places. Details are here.\nTown Criers will announce the event.\nReminders will appear in General Chat approximately one hour before the event.\nThe event will take place outside of a guard zone.\n\nWe will not be doing a treasure hunt EVERY month – unless there’s massive demand – \, but I will try to have some form of event later into the night as regularly as possible\, time and energy permitting! \nSpecial thanks go to Mesanna for providing the level 7 maps!
URL:https://uo.com/event/siege-perilous-y-a-t-h-yet-another-treasure-hunt/
CATEGORIES:EM Event
END:VEVENT
BEGIN:VEVENT
DTSTART;TZID=Asia/Seoul:20170617T200000
DTEND;TZID=Asia/Seoul:20170617T210000
DTSTAMP:20260422T120220
CREATED:20170610T164227Z
LAST-MODIFIED:20170610T164227Z
UID:14020-1497729600-1497733200@uo.com
SUMMARY:Arirang - The Falsehood
DESCRIPTION:Event Schedule \nDate/Time: June 17th\, 2017 08:00PM KST\nMeeting Place: Britain EM Hall \nEvent Story \nHanse the noble and Sera the engineer trying to recover the golem\, and Naxatilor the seer arguing with Blackthorn the King of Britannia to take it back. While they are doing their best to what they believe it’s the right thing to do\, another threat emerging. Join the adventure and adorn the history! \nCaution! \nWe’re expecting battle in this event\, please insure your precious items or leave them to your bank box. Event time is not that long so we’ll start it right in time. \nWarning \nIf anyone disrupt the event\, spamming\, insulting\, and harassing others or EM\, event will be stopped until the situation is handled. Please be advice that any inappropriate behavior will noted to your account\, and some of them can be fatal. EM will trying to hear your suggestion\, complain\, question\, and feedback willingly. Even though EM willing to hear and deal with the issue\, please note that there are some things that EM cannot deal with. \nEvent Chat Channel \nDuring the event\, we’ll use “Arirang EM Event” chat channel. To communicate with EM\, it is highly recommended to join the channel. EM will not take any responsibility for any penalties of information because of this.
URL:https://uo.com/event/arirang-the-falsehood/
LOCATION:Arirang
CATEGORIES:EM Event
END:VEVENT
BEGIN:VEVENT
DTSTART;TZID=America/Chicago:20170617T200000
DTEND;TZID=America/Chicago:20170617T210000
DTSTAMP:20260422T120220
CREATED:20170610T221306Z
LAST-MODIFIED:20170610T221306Z
UID:14029-1497729600-1497733200@uo.com
SUMMARY:Lake Austin - Governor's Meeting
DESCRIPTION:On Saturday June 17th at 8pm Central Time we will have our governors meeting. The king invites all concerned citizens attend.
URL:https://uo.com/event/lake-austin-governors-meeting-6/
CATEGORIES:EM Event
END:VEVENT
BEGIN:VEVENT
DTSTART;TZID=Asia/Tokyo:20170617T220000
DTEND;TZID=Asia/Tokyo:20170617T220000
DTSTAMP:20260422T120220
CREATED:20170509T154609Z
LAST-MODIFIED:20170509T154919Z
UID:13814-1497736800-1497736800@uo.com
SUMMARY:Yamato - The King's visit to New Magincia
DESCRIPTION:TBD
URL:https://uo.com/event/yamato-the-kings-visit-to-new-magincia/
LOCATION:New Magincia City Stone
CATEGORIES:EM Event
END:VEVENT
END:VCALENDAR