BEGIN:VCALENDAR
VERSION:2.0
PRODID:-//Ultima Online - ECPv5.16.4.1//NONSGML v1.0//EN
CALSCALE:GREGORIAN
METHOD:PUBLISH
X-WR-CALNAME:Ultima Online
X-ORIGINAL-URL:https://uo.com
X-WR-CALDESC:Events for Ultima Online
BEGIN:VTIMEZONE
TZID:America/New_York
BEGIN:DAYLIGHT
TZOFFSETFROM:-0500
TZOFFSETTO:-0400
TZNAME:EDT
DTSTART:20170312T070000
END:DAYLIGHT
BEGIN:STANDARD
TZOFFSETFROM:-0400
TZOFFSETTO:-0500
TZNAME:EST
DTSTART:20171105T060000
END:STANDARD
TZID:Europe/London
BEGIN:DAYLIGHT
TZOFFSETFROM:+0000
TZOFFSETTO:+0100
TZNAME:BST
DTSTART:20170326T010000
END:DAYLIGHT
BEGIN:STANDARD
TZOFFSETFROM:+0100
TZOFFSETTO:+0000
TZNAME:GMT
DTSTART:20171029T010000
END:STANDARD
END:VTIMEZONE
BEGIN:VEVENT
DTSTART;VALUE=DATE:20170622
DTEND;VALUE=DATE:20170628
DTSTAMP:20260422T120344
CREATED:20170615T235111Z
LAST-MODIFIED:20170615T235111Z
UID:14047-1498089600-1498607999@uo.com
SUMMARY:Atlantic - "Prologue" Self Paced Questing
DESCRIPTION:
URL:https://uo.com/event/atlantic-prologue-self-paced-questing/
CATEGORIES:EM Event
END:VEVENT
BEGIN:VEVENT
DTSTART;TZID=America/New_York:20170622T200000
DTEND;TZID=America/New_York:20170622T210000
DTSTAMP:20260422T120344
CREATED:20170529T184821Z
LAST-MODIFIED:20170529T184821Z
UID:13947-1498161600-1498165200@uo.com
SUMMARY:Legends - A Deadly Deal
DESCRIPTION:On Thursday\, June 22nd at 8:00 PM EST\, meet Magister Rainard at Castle Blackthorn.
URL:https://uo.com/event/legends-a-deadly-deal/
LOCATION:Legends
CATEGORIES:EM Event
END:VEVENT
BEGIN:VEVENT
DTSTART;TZID=Europe/London:20170622T203000
DTEND;TZID=Europe/London:20170622T220000
DTSTAMP:20260422T120344
CREATED:20170617T113825Z
LAST-MODIFIED:20170617T113825Z
UID:14074-1498163400-1498168800@uo.com
SUMMARY:Europa - PvP Event - Felucca's Madness
DESCRIPTION:This PvP event will take place in one of the main Dungeons Of Felucca: Despise. You will face the worst monsters and Pkers of the shard! Be Ready to fight! Encounter the Dread Lord! \nDouble check your insurance! Gates will be provided at EM Hall and WBB ( Felucca side) \n8.30 UK TIME
URL:https://uo.com/event/europa-pvp-event-feluccas-madness/
CATEGORIES:EM Event
END:VEVENT
END:VCALENDAR