BEGIN:VCALENDAR
VERSION:2.0
PRODID:-//Ultima Online - ECPv5.16.4.1//NONSGML v1.0//EN
CALSCALE:GREGORIAN
METHOD:PUBLISH
X-WR-CALNAME:Ultima Online
X-ORIGINAL-URL:https://uo.com
X-WR-CALDESC:Events for Ultima Online
BEGIN:VTIMEZONE
TZID:America/New_York
BEGIN:DAYLIGHT
TZOFFSETFROM:-0500
TZOFFSETTO:-0400
TZNAME:EDT
DTSTART:20170312T070000
END:DAYLIGHT
BEGIN:STANDARD
TZOFFSETFROM:-0400
TZOFFSETTO:-0500
TZNAME:EST
DTSTART:20171105T060000
END:STANDARD
TZID:America/Los_Angeles
BEGIN:DAYLIGHT
TZOFFSETFROM:-0800
TZOFFSETTO:-0700
TZNAME:PDT
DTSTART:20170312T100000
END:DAYLIGHT
BEGIN:STANDARD
TZOFFSETFROM:-0700
TZOFFSETTO:-0800
TZNAME:PST
DTSTART:20171105T090000
END:STANDARD
TZID:Europe/London
BEGIN:DAYLIGHT
TZOFFSETFROM:+0000
TZOFFSETTO:+0100
TZNAME:BST
DTSTART:20170326T010000
END:DAYLIGHT
BEGIN:STANDARD
TZOFFSETFROM:+0100
TZOFFSETTO:+0000
TZNAME:GMT
DTSTART:20171029T010000
END:STANDARD
TZID:Asia/Tokyo
BEGIN:STANDARD
TZOFFSETFROM:+0900
TZOFFSETTO:+0900
TZNAME:JST
DTSTART:20170101T000000
END:STANDARD
END:VTIMEZONE
BEGIN:VEVENT
DTSTART;VALUE=DATE:20170622
DTEND;VALUE=DATE:20170628
DTSTAMP:20260422T120415
CREATED:20170615T235111Z
LAST-MODIFIED:20170615T235111Z
UID:14047-1498089600-1498607999@uo.com
SUMMARY:Atlantic - "Prologue" Self Paced Questing
DESCRIPTION:
URL:https://uo.com/event/atlantic-prologue-self-paced-questing/
CATEGORIES:EM Event
END:VEVENT
BEGIN:VEVENT
DTSTART;TZID=America/Los_Angeles:20170625T170000
DTEND;TZID=America/Los_Angeles:20170625T173000
DTSTAMP:20260422T120415
CREATED:20170614T233103Z
LAST-MODIFIED:20170614T233103Z
UID:14041-1498410000-1498411800@uo.com
SUMMARY:Napa Valley - Governor's Meeting
DESCRIPTION:
URL:https://uo.com/event/napa-valley-governors-meeting-15/
CATEGORIES:EM Event
END:VEVENT
BEGIN:VEVENT
DTSTART;TZID=America/Los_Angeles:20170625T190000
DTEND;TZID=America/Los_Angeles:20170625T200000
DTSTAMP:20260422T120415
CREATED:20170617T195722Z
LAST-MODIFIED:20170617T195722Z
UID:14084-1498417200-1498420800@uo.com
SUMMARY:*Pacific* – The Purge
DESCRIPTION:
URL:https://uo.com/event/pacific-the-purge/
LOCATION:Castle Blackthorn Bridge
CATEGORIES:EM Event
END:VEVENT
BEGIN:VEVENT
DTSTART;TZID=America/New_York:20170625T200000
DTEND;TZID=America/New_York:20170625T200000
DTSTAMP:20260422T120415
CREATED:20170615T235154Z
LAST-MODIFIED:20170615T235154Z
UID:14049-1498420800-1498420800@uo.com
SUMMARY:Atlantic - "Conseil du Roi"
DESCRIPTION:
URL:https://uo.com/event/atlantic-conseil-du-roi-5/
CATEGORIES:EM Event
END:VEVENT
BEGIN:VEVENT
DTSTART;TZID=Europe/London:20170625T203000
DTEND;TZID=Europe/London:20170625T210000
DTSTAMP:20260422T120415
CREATED:20170622T223257Z
LAST-MODIFIED:20170622T223257Z
UID:14121-1498422600-1498424400@uo.com
SUMMARY:Europa ^ The Kings’ Gathering
DESCRIPTION:
URL:https://uo.com/event/europa-the-kings-gathering-6/
LOCATION:Blackthorn Castle meeting room
CATEGORIES:EM Event
ORGANIZER;CN="EM%20Kimmie":MAILTO:kimmie@uoem.net
END:VEVENT
BEGIN:VEVENT
DTSTART;TZID=Europe/London:20170625T210000
DTEND;TZID=Europe/London:20170625T220000
DTSTAMP:20260422T120415
CREATED:20170617T114902Z
LAST-MODIFIED:20170622T223516Z
UID:14076-1498424400-1498428000@uo.com
SUMMARY:Europa - The Lantern Of Evil
DESCRIPTION:Meet The Royal Guard to find an ancient (and evil) artifact! \n 
URL:https://uo.com/event/europa-the-lantern-of-evil/
CATEGORIES:EM Event
END:VEVENT
BEGIN:VEVENT
DTSTART;TZID=Asia/Tokyo:20170625T220000
DTEND;TZID=Asia/Tokyo:20170625T220000
DTSTAMP:20260422T120415
CREATED:20170509T155214Z
LAST-MODIFIED:20170509T155214Z
UID:13819-1498428000-1498428000@uo.com
SUMMARY:Yamato - The Council Meeting with the King
DESCRIPTION:The King invites all Governors and Citizens to the Council Meeting.\n*Please note this meeting requires everyone is “in-character”\, and thus roleplay is expected of all who attend.
URL:https://uo.com/event/yamato-the-council-meeting-with-the-king-14/
LOCATION:Castle Blackthorn
CATEGORIES:EM Event
END:VEVENT
BEGIN:VEVENT
DTSTART;TZID=Asia/Tokyo:20170625T220000
DTEND;TZID=Asia/Tokyo:20170625T220000
DTSTAMP:20260422T120415
CREATED:20170603T142428Z
LAST-MODIFIED:20170603T142428Z
UID:13975-1498428000-1498428000@uo.com
SUMMARY:Sakura - The Council Meeting With The King
DESCRIPTION:The monthly governor’s meeting with King Blackthorn.\nEveryone is invited.
URL:https://uo.com/event/sakura-the-council-meeting-with-the-king-13/
LOCATION:Blackthorn Castle
CATEGORIES:EM Event
END:VEVENT
END:VCALENDAR