BEGIN:VCALENDAR
VERSION:2.0
PRODID:-//Ultima Online - ECPv5.16.4.1//NONSGML v1.0//EN
CALSCALE:GREGORIAN
METHOD:PUBLISH
X-WR-CALNAME:Ultima Online
X-ORIGINAL-URL:https://uo.com
X-WR-CALDESC:Events for Ultima Online
BEGIN:VTIMEZONE
TZID:America/New_York
BEGIN:DAYLIGHT
TZOFFSETFROM:-0500
TZOFFSETTO:-0400
TZNAME:EDT
DTSTART:20170312T070000
END:DAYLIGHT
BEGIN:STANDARD
TZOFFSETFROM:-0400
TZOFFSETTO:-0500
TZNAME:EST
DTSTART:20171105T060000
END:STANDARD
TZID:America/Los_Angeles
BEGIN:DAYLIGHT
TZOFFSETFROM:-0800
TZOFFSETTO:-0700
TZNAME:PDT
DTSTART:20170312T100000
END:DAYLIGHT
BEGIN:STANDARD
TZOFFSETFROM:-0700
TZOFFSETTO:-0800
TZNAME:PST
DTSTART:20171105T090000
END:STANDARD
END:VTIMEZONE
BEGIN:VEVENT
DTSTART;VALUE=DATE:20170622
DTEND;VALUE=DATE:20170628
DTSTAMP:20260422T103203
CREATED:20170615T235111Z
LAST-MODIFIED:20170615T235111Z
UID:14047-1498089600-1498607999@uo.com
SUMMARY:Atlantic - "Prologue" Self Paced Questing
DESCRIPTION:
URL:https://uo.com/event/atlantic-prologue-self-paced-questing/
CATEGORIES:EM Event
END:VEVENT
BEGIN:VEVENT
DTSTART;TZID=America/Los_Angeles:20170626T190000
DTEND;TZID=America/Los_Angeles:20170626T200000
DTSTAMP:20260422T103203
CREATED:20170614T233139Z
LAST-MODIFIED:20170614T233139Z
UID:14043-1498503600-1498507200@uo.com
SUMMARY:Napa Valley - Meet at Blackthorn's Castle
DESCRIPTION:
URL:https://uo.com/event/napa-valley-meet-at-blackthorns-castle-6/
CATEGORIES:EM Event
END:VEVENT
BEGIN:VEVENT
DTSTART;TZID=America/New_York:20170626T190000
DTEND;TZID=America/New_York:20170626T210000
DTSTAMP:20260422T103203
CREATED:20170625T203713Z
LAST-MODIFIED:20170625T203713Z
UID:14131-1498503600-1498510800@uo.com
SUMMARY:Catskills - The Forgotten
DESCRIPTION:Commander Brodgar calls upon the RBG to gather in Serpents Hold!
URL:https://uo.com/event/catskills-the-forgotten-19/
LOCATION:Catskills
CATEGORIES:EM Event
END:VEVENT
END:VCALENDAR