BEGIN:VCALENDAR
VERSION:2.0
PRODID:-//Ultima Online - ECPv5.16.4.1//NONSGML v1.0//EN
CALSCALE:GREGORIAN
METHOD:PUBLISH
X-WR-CALNAME:Ultima Online
X-ORIGINAL-URL:https://uo.com
X-WR-CALDESC:Events for Ultima Online
BEGIN:VTIMEZONE
TZID:America/New_York
BEGIN:DAYLIGHT
TZOFFSETFROM:-0500
TZOFFSETTO:-0400
TZNAME:EDT
DTSTART:20170312T070000
END:DAYLIGHT
BEGIN:STANDARD
TZOFFSETFROM:-0400
TZOFFSETTO:-0500
TZNAME:EST
DTSTART:20171105T060000
END:STANDARD
TZID:America/Los_Angeles
BEGIN:DAYLIGHT
TZOFFSETFROM:-0800
TZOFFSETTO:-0700
TZNAME:PDT
DTSTART:20170312T100000
END:DAYLIGHT
BEGIN:STANDARD
TZOFFSETFROM:-0700
TZOFFSETTO:-0800
TZNAME:PST
DTSTART:20171105T090000
END:STANDARD
TZID:America/Chicago
BEGIN:DAYLIGHT
TZOFFSETFROM:-0600
TZOFFSETTO:-0500
TZNAME:CDT
DTSTART:20170312T080000
END:DAYLIGHT
BEGIN:STANDARD
TZOFFSETFROM:-0500
TZOFFSETTO:-0600
TZNAME:CST
DTSTART:20171105T070000
END:STANDARD
END:VTIMEZONE
BEGIN:VEVENT
DTSTART;VALUE=DATE:20170701
DTEND;VALUE=DATE:20170702
DTSTAMP:20260422T103138
CREATED:20170629T203029Z
LAST-MODIFIED:20170629T205058Z
UID:14179-1498867200-1498953599@uo.com
SUMMARY:Siege : July Fishing Contest
DESCRIPTION:July 2017 Fishing Contest \n \nFishermen (and women! and gargoyles! and orcs! and savages! and goblins! and anyone I left out!) of Siege! Your time has come! \nEvery month we will have a contest to see who can catch the largest of a specific type of fish. \nDeposit your catch in the mailbox at the House of Commons (EM Hall) north of the Britain Moongate. The fisher-person who deposits the biggest one before the end of July will be forever remembered (or until we run out of space) in the Reward Hall! \nThe fish of the month this month is the Seeker Fish! \nI look forward to foul smells wafting out of my mailbox! \nWhat you need to know: \n\nHow to fish.\nWhere to find specific fish.\nHow to stay alive while fishing.\nThat’s about it.
URL:https://uo.com/event/july-fishing-contest/
LOCATION:Siege Perilous
CATEGORIES:EM Event
END:VEVENT
BEGIN:VEVENT
DTSTART;TZID=America/Los_Angeles:20170701T190000
DTEND;TZID=America/Los_Angeles:20170701T200000
DTSTAMP:20260422T103138
CREATED:20170617T200024Z
LAST-MODIFIED:20170617T200106Z
UID:14086-1498935600-1498939200@uo.com
SUMMARY:*Pacific* – Kings Meeting
DESCRIPTION:
URL:https://uo.com/event/pacific-kings-meeting-12/
LOCATION:Castle Blackthorn
CATEGORIES:EM Event
END:VEVENT
BEGIN:VEVENT
DTSTART;TZID=America/Chicago:20170701T200000
DTEND;TZID=America/Chicago:20170701T210000
DTSTAMP:20260422T103138
CREATED:20170708T200704Z
LAST-MODIFIED:20170708T200704Z
UID:14266-1498939200-1498942800@uo.com
SUMMARY:Lake Austin - Celebration
DESCRIPTION:It was supposed to be a party… it failed.
URL:https://uo.com/event/lake-austin-celebration/
CATEGORIES:EM Event
END:VEVENT
END:VCALENDAR