BEGIN:VCALENDAR
VERSION:2.0
PRODID:-//Ultima Online - ECPv5.16.4.1//NONSGML v1.0//EN
CALSCALE:GREGORIAN
METHOD:PUBLISH
X-WR-CALNAME:Ultima Online
X-ORIGINAL-URL:https://uo.com
X-WR-CALDESC:Events for Ultima Online
BEGIN:VTIMEZONE
TZID:America/Chicago
BEGIN:DAYLIGHT
TZOFFSETFROM:-0600
TZOFFSETTO:-0500
TZNAME:CDT
DTSTART:20170312T080000
END:DAYLIGHT
BEGIN:STANDARD
TZOFFSETFROM:-0500
TZOFFSETTO:-0600
TZNAME:CST
DTSTART:20171105T070000
END:STANDARD
TZID:Asia/Tokyo
BEGIN:STANDARD
TZOFFSETFROM:+0900
TZOFFSETTO:+0900
TZNAME:JST
DTSTART:20170101T000000
END:STANDARD
TZID:Europe/London
BEGIN:DAYLIGHT
TZOFFSETFROM:+0000
TZOFFSETTO:+0100
TZNAME:BST
DTSTART:20170326T010000
END:DAYLIGHT
BEGIN:STANDARD
TZOFFSETFROM:+0100
TZOFFSETTO:+0000
TZNAME:GMT
DTSTART:20171029T010000
END:STANDARD
END:VTIMEZONE
BEGIN:VEVENT
DTSTART;TZID=America/Chicago:20170708T200000
DTEND;TZID=America/Chicago:20170708T210000
DTSTAMP:20260422T103140
CREATED:20170708T195949Z
LAST-MODIFIED:20170708T195949Z
UID:14258-1499544000-1499547600@uo.com
SUMMARY:Lake Austin - Search and Rescue
DESCRIPTION:The King has ordered a search and rescue for Harriet until further notice.
URL:https://uo.com/event/lake-austin-search-and-rescue/
CATEGORIES:EM Event
END:VEVENT
BEGIN:VEVENT
DTSTART;TZID=Asia/Tokyo:20170708T220000
DTEND;TZID=Asia/Tokyo:20170708T220000
DTSTAMP:20260422T103140
CREATED:20170604T071233Z
LAST-MODIFIED:20170604T071233Z
UID:13996-1499551200-1499551200@uo.com
SUMMARY:Mizuho - Mini Event
DESCRIPTION:TBD
URL:https://uo.com/event/mizuho-mini-event-7/
LOCATION:TBD
CATEGORIES:EM Event
END:VEVENT
BEGIN:VEVENT
DTSTART;TZID=Europe/London:20170708T220000
DTEND;TZID=Europe/London:20170708T233000
DTSTAMP:20260422T103140
CREATED:20170628T192102Z
LAST-MODIFIED:20170629T205932Z
UID:14166-1499551200-1499556600@uo.com
SUMMARY:Siege Perilous - Man Overboard!
DESCRIPTION:Saturday July 8th : 10 pm BST / 5 pm EST  \nThe king has spoken! There shall be a race! A race by sea! \nSeafaring adventurers! Fishermen! Eager swimmers! Riders of the Walrus! Oil your flippers! \nThe race will work as follows: \nYou will be summoned to a starting location\, where you will be given a book\, containing a riddle. This riddle\, when solved\, will give you a clue to the first location on your route\, and a password. \nWhen you arrive at your first location\, you will tell the password to the guide who awaits you\, and he or she will tell you your next location\, and the next password. \nAs you go\, write the passwords in your book. \nThe first person to arrive at the final location with all passwords in their book will have their name recorded in the Reward Hall for all to see! \n  \nWhat you need to know: \n\nGates will be made available at the usual places.\nYou NEED some form of sea-faring vessel. You are welcome to try to do this without a boat/ship\, but you will not know which location is the last until you get there. If you arrive at that location via land or by gate\, you will be disqualified. There might even be lookouts at some of the other locations. So please\, use a boat or a ship.\nYou need to record the passwords as you go. If any are missing when you reach the finish line\, you will be disqualified.\nObviously\, this will take place outside of a guard zone.\nBlowing your opponents out of the water is a perfectly acceptable tactic. This is Siege. Why wouldn’t you sink the scurvy rats?\nThe book will be checked on arrival to make sure it is original. No handing out copied books to your first mate!  This also means\, if you kill your opponents and their bodies decay\, they’re out of the race.\n\n 
URL:https://uo.com/event/siege-perilous-man-overboard/
LOCATION:Siege Perilous
CATEGORIES:EM Event
ATTACH;FMTTYPE=image/png:https://uo.com/wp-content/uploads/2017/03/SiegeShield.png
END:VEVENT
END:VCALENDAR