BEGIN:VCALENDAR
VERSION:2.0
PRODID:-//Ultima Online - ECPv5.16.4.1//NONSGML v1.0//EN
CALSCALE:GREGORIAN
METHOD:PUBLISH
X-WR-CALNAME:Ultima Online
X-ORIGINAL-URL:https://uo.com
X-WR-CALDESC:Events for Ultima Online
BEGIN:VTIMEZONE
TZID:America/New_York
BEGIN:DAYLIGHT
TZOFFSETFROM:-0500
TZOFFSETTO:-0400
TZNAME:EDT
DTSTART:20170312T070000
END:DAYLIGHT
BEGIN:STANDARD
TZOFFSETFROM:-0400
TZOFFSETTO:-0500
TZNAME:EST
DTSTART:20171105T060000
END:STANDARD
TZID:Asia/Tokyo
BEGIN:STANDARD
TZOFFSETFROM:+0900
TZOFFSETTO:+0900
TZNAME:JST
DTSTART:20170101T000000
END:STANDARD
END:VTIMEZONE
BEGIN:VEVENT
DTSTART;VALUE=DATE:20170715
DTEND;VALUE=DATE:20170721
DTSTAMP:20260422T103031
CREATED:20170713T042507Z
LAST-MODIFIED:20170713T042507Z
UID:14286-1500076800-1500595199@uo.com
SUMMARY:Atlantic -  Self Paced Adventure
DESCRIPTION:
URL:https://uo.com/event/atlantic-self-paced-adventure/
CATEGORIES:EM Event
END:VEVENT
BEGIN:VEVENT
DTSTART;TZID=Asia/Tokyo:20170717T220000
DTEND;TZID=Asia/Tokyo:20170717T220000
DTSTAMP:20260422T103031
CREATED:20170604T071318Z
LAST-MODIFIED:20170604T071318Z
UID:13998-1500328800-1500328800@uo.com
SUMMARY:Mizuho - Event
DESCRIPTION:TBD
URL:https://uo.com/event/mizuho-event-7/
CATEGORIES:EM Event
END:VEVENT
END:VCALENDAR