BEGIN:VCALENDAR
VERSION:2.0
PRODID:-//Ultima Online - ECPv5.16.4.1//NONSGML v1.0//EN
CALSCALE:GREGORIAN
METHOD:PUBLISH
X-WR-CALNAME:Ultima Online
X-ORIGINAL-URL:https://uo.com
X-WR-CALDESC:Events for Ultima Online
BEGIN:VTIMEZONE
TZID:America/Los_Angeles
BEGIN:DAYLIGHT
TZOFFSETFROM:-0800
TZOFFSETTO:-0700
TZNAME:PDT
DTSTART:20170312T100000
END:DAYLIGHT
BEGIN:STANDARD
TZOFFSETFROM:-0700
TZOFFSETTO:-0800
TZNAME:PST
DTSTART:20171105T090000
END:STANDARD
TZID:Europe/Berlin
BEGIN:DAYLIGHT
TZOFFSETFROM:+0100
TZOFFSETTO:+0200
TZNAME:CEST
DTSTART:20170326T010000
END:DAYLIGHT
BEGIN:STANDARD
TZOFFSETFROM:+0200
TZOFFSETTO:+0100
TZNAME:CET
DTSTART:20171029T010000
END:STANDARD
TZID:Asia/Tokyo
BEGIN:STANDARD
TZOFFSETFROM:+0900
TZOFFSETTO:+0900
TZNAME:JST
DTSTART:20170101T000000
END:STANDARD
END:VTIMEZONE
BEGIN:VEVENT
DTSTART;TZID=America/Los_Angeles:20170730T180000
DTEND;TZID=America/Los_Angeles:20170730T190000
DTSTAMP:20260422T103139
CREATED:20170710T171646Z
LAST-MODIFIED:20170710T171646Z
UID:14276-1501437600-1501441200@uo.com
SUMMARY:Origin ~ *SOS* Slayers of Scalis
DESCRIPTION:
URL:https://uo.com/event/origin-sos-slayers-of-scalis-4/
CATEGORIES:EM Event
END:VEVENT
BEGIN:VEVENT
DTSTART;TZID=America/Los_Angeles:20170730T190000
DTEND;TZID=America/Los_Angeles:20170730T200000
DTSTAMP:20260422T103139
CREATED:20170711T175119Z
LAST-MODIFIED:20170711T175119Z
UID:14282-1501441200-1501444800@uo.com
SUMMARY:*Pacific* – Melodic Tune of the Fates
DESCRIPTION:
URL:https://uo.com/event/pacific-melodic-tune-of-the-fates/
LOCATION:Castle Blackthorn Bridge
CATEGORIES:EM Event
END:VEVENT
BEGIN:VEVENT
DTSTART;TZID=Europe/Berlin:20170730T203000
DTEND;TZID=Europe/Berlin:20170730T213000
DTSTAMP:20260422T103139
CREATED:20170708T102821Z
LAST-MODIFIED:20170708T102821Z
UID:14248-1501446600-1501450200@uo.com
SUMMARY:Drachenfels: Royal Audience & HoF Ceremony | Königliche Audienz & HoF Zeremonie
DESCRIPTION:Time: 8:30pm CEST (UTC+2).  Location: Castle Blackthorn\, Britain\, Trammel.\nAfter the Royal Audience the special HoF ceremony will take place at the throneroom\, in honor to our dedicated players. See this list to see which players qualified. If your name is marked with color on that list and you can’t make it this evening\, get in touch with me (e-mail). \nZeit: 20:30 Uhr CEST (UTC+2). Ort: Schloss Blackthorn\, Britain\, Trammel.\nNach der Königlichen Audienz findet im Thronsaal die spezielle HoF Zeremonie zu Ehren unserer engagierten Spieler statt. Schaut euch diese Liste an um zu sehen wer sich dafür qualifiziert hat. Wenn euer Name auf dieser Liste farblich markiert ist und ihr an diesem Abend nicht kommen könnt\, meldet euch bei mir (E-Mail).
URL:https://uo.com/event/drachenfels-royal-audience-hof-ceremony-konigliche-audienz-hof-zeremonie/
LOCATION:Drachenfels
CATEGORIES:EM Event
END:VEVENT
BEGIN:VEVENT
DTSTART;TZID=Asia/Tokyo:20170730T220000
DTEND;TZID=Asia/Tokyo:20170730T220000
DTSTAMP:20260422T103139
CREATED:20170702T042800Z
LAST-MODIFIED:20170702T043807Z
UID:14189-1501452000-1501452000@uo.com
SUMMARY:Sakura - The Council Meeting With The King
DESCRIPTION:The monthly governor’s meeting with King Blackthorn.\nEveryone is invited.
URL:https://uo.com/event/the-council-meeting-with-the-king/
LOCATION:Blackthorn Castle
CATEGORIES:EM Event
END:VEVENT
END:VCALENDAR