BEGIN:VCALENDAR
VERSION:2.0
PRODID:-//Ultima Online - ECPv5.16.4.1//NONSGML v1.0//EN
CALSCALE:GREGORIAN
METHOD:PUBLISH
X-WR-CALNAME:Ultima Online
X-ORIGINAL-URL:https://uo.com
X-WR-CALDESC:Events for Ultima Online
BEGIN:VTIMEZONE
TZID:America/Los_Angeles
BEGIN:DAYLIGHT
TZOFFSETFROM:-0800
TZOFFSETTO:-0700
TZNAME:PDT
DTSTART:20170312T100000
END:DAYLIGHT
BEGIN:STANDARD
TZOFFSETFROM:-0700
TZOFFSETTO:-0800
TZNAME:PST
DTSTART:20171105T090000
END:STANDARD
TZID:Europe/London
BEGIN:DAYLIGHT
TZOFFSETFROM:+0000
TZOFFSETTO:+0100
TZNAME:BST
DTSTART:20170326T010000
END:DAYLIGHT
BEGIN:STANDARD
TZOFFSETFROM:+0100
TZOFFSETTO:+0000
TZNAME:GMT
DTSTART:20171029T010000
END:STANDARD
TZID:America/New_York
BEGIN:DAYLIGHT
TZOFFSETFROM:-0500
TZOFFSETTO:-0400
TZNAME:EDT
DTSTART:20170312T070000
END:DAYLIGHT
BEGIN:STANDARD
TZOFFSETFROM:-0400
TZOFFSETTO:-0500
TZNAME:EST
DTSTART:20171105T060000
END:STANDARD
END:VTIMEZONE
BEGIN:VEVENT
DTSTART;TZID=America/Los_Angeles:20170806T180000
DTEND;TZID=America/Los_Angeles:20170806T193000
DTSTAMP:20260422T084719
CREATED:20170731T215430Z
LAST-MODIFIED:20170731T215836Z
UID:14367-1502042400-1502047800@uo.com
SUMMARY:Origin ~ Fireside Chat & Zig’s Mini Monster Mash!
DESCRIPTION:
URL:https://uo.com/event/origin-fireside-chat-zigs-mini-monster-mash/
LOCATION:Award Hall BBQ Area (Malas)
CATEGORIES:EM Event
END:VEVENT
BEGIN:VEVENT
DTSTART;TZID=Europe/London:20170806T203000
DTEND;TZID=Europe/London:20170806T213000
DTSTAMP:20260422T084719
CREATED:20170802T024536Z
LAST-MODIFIED:20170802T024536Z
UID:14384-1502051400-1502055000@uo.com
SUMMARY:Europa ^ Story Hour: Roleplay Adventure 6
DESCRIPTION:
URL:https://uo.com/event/europa-story-hour-roleplay-adventure-6/
LOCATION:Nujel’m Theater
CATEGORIES:EM Event
ORGANIZER;CN="EM%20Kimmie":MAILTO:kimmie@uoem.net
END:VEVENT
BEGIN:VEVENT
DTSTART;TZID=America/New_York:20170806T220000
DTEND;TZID=America/New_York:20170806T230000
DTSTAMP:20260422T084719
CREATED:20170801T175928Z
LAST-MODIFIED:20170801T175928Z
UID:14381-1502056800-1502060400@uo.com
SUMMARY:Sonoma - Decoding the Book of Ancients Event
DESCRIPTION:Event starts at  7pm PDT and will start at the EM Meeting Hall.
URL:https://uo.com/event/sonoma-decoding-the-book-of-ancients-event/
LOCATION:Sonoma EM Meeting Hall
CATEGORIES:EM Event
END:VEVENT
END:VCALENDAR