BEGIN:VCALENDAR
VERSION:2.0
PRODID:-//Ultima Online - ECPv5.16.4.1//NONSGML v1.0//EN
CALSCALE:GREGORIAN
METHOD:PUBLISH
X-WR-CALNAME:Ultima Online
X-ORIGINAL-URL:https://uo.com
X-WR-CALDESC:Events for Ultima Online
BEGIN:VTIMEZONE
TZID:America/New_York
BEGIN:DAYLIGHT
TZOFFSETFROM:-0500
TZOFFSETTO:-0400
TZNAME:EDT
DTSTART:20170312T070000
END:DAYLIGHT
BEGIN:STANDARD
TZOFFSETFROM:-0400
TZOFFSETTO:-0500
TZNAME:EST
DTSTART:20171105T060000
END:STANDARD
TZID:Europe/Berlin
BEGIN:DAYLIGHT
TZOFFSETFROM:+0100
TZOFFSETTO:+0200
TZNAME:CEST
DTSTART:20170326T010000
END:DAYLIGHT
BEGIN:STANDARD
TZOFFSETFROM:+0200
TZOFFSETTO:+0100
TZNAME:CET
DTSTART:20171029T010000
END:STANDARD
END:VTIMEZONE
BEGIN:VEVENT
DTSTART;TZID=America/New_York:20170807T200000
DTEND;TZID=America/New_York:20170807T210000
DTSTAMP:20260422T084718
CREATED:20170803T033620Z
LAST-MODIFIED:20170803T045151Z
UID:14392-1502136000-1502139600@uo.com
SUMMARY:Legends - A Cruel Plan [NR]
DESCRIPTION:On Monday\, August 7th at 8:00 PM EST\, meet at Castle Blackthorn. \nNote: This will be a moderate roleplay event with moderate combat\, no reward.
URL:https://uo.com/event/legends-a-cruel-plan/
LOCATION:Legends
CATEGORIES:EM Event
END:VEVENT
BEGIN:VEVENT
DTSTART;TZID=Europe/Berlin:20170807T203000
DTEND;TZID=Europe/Berlin:20170807T213000
DTSTAMP:20260422T084718
CREATED:20170804T122958Z
LAST-MODIFIED:20170804T123012Z
UID:14431-1502137800-1502141400@uo.com
SUMMARY:Drachenfels: Zibalba's Auction (HoF) & Meet and Greet with EM Lyraa
DESCRIPTION:Time: 8:30pm CEST (UTC+2).  Location: EM Hall\, Malas.\nMini HoF (RP) Event: Zibalba will again auction off last t-hunt items. After that\, EM Lyraa will take over the evening and will be chatting with you along\, accompanied by a cool ale (or even a glass of milk). \nZeit: 20:30 Uhr CEST (UTC+2). Ort: EM Halle\, Malas.\nMini HoF (RP) Event: Zibalba wird wieder die letzten T-Hunt Gegenstände versteigern. Danach wird EM Lyraa den Abend übernehmen und mit euch gemütlich plaudern\, zusammen mit einem kühlen Bier (oder auch einem Glas Milch).
URL:https://uo.com/event/drachenfels-zibalbas-auction-hof-meet-and-greet-with-em-lyraa/
LOCATION:Drachenfels
CATEGORIES:EM Event
END:VEVENT
END:VCALENDAR