BEGIN:VCALENDAR
VERSION:2.0
PRODID:-//Ultima Online - ECPv5.16.4.1//NONSGML v1.0//EN
CALSCALE:GREGORIAN
METHOD:PUBLISH
X-WR-CALNAME:Ultima Online
X-ORIGINAL-URL:https://uo.com
X-WR-CALDESC:Events for Ultima Online
BEGIN:VTIMEZONE
TZID:America/Los_Angeles
BEGIN:DAYLIGHT
TZOFFSETFROM:-0800
TZOFFSETTO:-0700
TZNAME:PDT
DTSTART:20170312T100000
END:DAYLIGHT
BEGIN:STANDARD
TZOFFSETFROM:-0700
TZOFFSETTO:-0800
TZNAME:PST
DTSTART:20171105T090000
END:STANDARD
TZID:Asia/Tokyo
BEGIN:STANDARD
TZOFFSETFROM:+0900
TZOFFSETTO:+0900
TZNAME:JST
DTSTART:20170101T000000
END:STANDARD
END:VTIMEZONE
BEGIN:VEVENT
DTSTART;TZID=America/Los_Angeles:20170811T190000
DTEND;TZID=America/Los_Angeles:20170811T200000
DTSTAMP:20260422T084605
CREATED:20170731T215750Z
LAST-MODIFIED:20170731T215750Z
UID:14369-1502478000-1502481600@uo.com
SUMMARY:Origin ~ ZiggyMer’s ‘Quest Seekers’ 4
DESCRIPTION:
URL:https://uo.com/event/origin-ziggymers-quest-seekers-4/
LOCATION:Luna Stables (meet at)
CATEGORIES:EM Event
END:VEVENT
BEGIN:VEVENT
DTSTART;TZID=Asia/Tokyo:20170811T220000
DTEND;TZID=Asia/Tokyo:20170811T230000
DTSTAMP:20260422T084605
CREATED:20170708T131205Z
LAST-MODIFIED:20170805T145630Z
UID:14252-1502488800-1502492400@uo.com
SUMMARY:Yamato - The Balloon plans
DESCRIPTION:See all information at \nhttp://yamato.uoem.net/?p=10005 \n  \nPlease bookmark this site and be sure to check back information updated during the event as well. \nLanguage:  Japanese / English Bilingual \nSee you soon!
URL:https://uo.com/event/yamato-the-balloon-plans/
CATEGORIES:EM Event
END:VEVENT
END:VCALENDAR