BEGIN:VCALENDAR
VERSION:2.0
PRODID:-//Ultima Online - ECPv5.16.4.1//NONSGML v1.0//EN
CALSCALE:GREGORIAN
METHOD:PUBLISH
X-WR-CALNAME:Ultima Online
X-ORIGINAL-URL:https://uo.com
X-WR-CALDESC:Events for Ultima Online
BEGIN:VTIMEZONE
TZID:America/Los_Angeles
BEGIN:DAYLIGHT
TZOFFSETFROM:-0800
TZOFFSETTO:-0700
TZNAME:PDT
DTSTART:20170312T100000
END:DAYLIGHT
BEGIN:STANDARD
TZOFFSETFROM:-0700
TZOFFSETTO:-0800
TZNAME:PST
DTSTART:20171105T090000
END:STANDARD
TZID:Asia/Tokyo
BEGIN:STANDARD
TZOFFSETFROM:+0900
TZOFFSETTO:+0900
TZNAME:JST
DTSTART:20170101T000000
END:STANDARD
TZID:America/New_York
BEGIN:DAYLIGHT
TZOFFSETFROM:-0500
TZOFFSETTO:-0400
TZNAME:EDT
DTSTART:20170312T070000
END:DAYLIGHT
BEGIN:STANDARD
TZOFFSETFROM:-0400
TZOFFSETTO:-0500
TZNAME:EST
DTSTART:20171105T060000
END:STANDARD
END:VTIMEZONE
BEGIN:VEVENT
DTSTART;TZID=America/Los_Angeles:20170818T190000
DTEND;TZID=America/Los_Angeles:20170818T200000
DTSTAMP:20260422T084605
CREATED:20170807T034753Z
LAST-MODIFIED:20170807T034753Z
UID:14450-1503082800-1503086400@uo.com
SUMMARY:Baja - Message For A King
DESCRIPTION:Mariah needs your help with delivering an important message to King Blackthorn! Meet at the Skara Brae docks!
URL:https://uo.com/event/baja-message-for-a-king/
CATEGORIES:EM Event
END:VEVENT
BEGIN:VEVENT
DTSTART;TZID=Asia/Tokyo:20170818T203000
DTEND;TZID=Asia/Tokyo:20170820T230000
DTSTAMP:20260422T084605
CREATED:20170708T131441Z
LAST-MODIFIED:20170813T061004Z
UID:14254-1503088200-1503270000@uo.com
SUMMARY:All Japanese Shards - 20th Anniversary Live Event Part 1
DESCRIPTION:Date & Time:\n————\n8/18 (Fri)\nWakoku / 21：00～\nMugen / 22：00～ \nﾟ・*:.｡..｡.:+・ﾟ・*:.｡..｡.:+・ﾟ・*:.｡..｡.:+・ﾟ \n8/19 (Sat)\nIzumo / 20：30～\nSakura / 21：15～\nMizuho / 22：00～ \nﾟ・*:.｡..｡.:+・ﾟ・*:.｡..｡.:+・ﾟ・*:.｡..｡.:+・ﾟ \n8/20 (Sun)\nAsuka / 20：30～\nYamato / 21：15～\nHokuto / 22：00～ \n  \n \nMeeting Place:\n————–\nMeet Mariah at Holy City\, Sextant location: 163o 55’N\, 24o 53′ W\nTake an EM gate from Royal City Moongate. \n  \n  \nRemarks:\n——–\nThe event will go through Blackthorn Castle. Please stable your pets until the role play character suggests you to claim. \n  \n 
URL:https://uo.com/event/tentative-all-japanese-shards-20th-anniversary-live-event/
CATEGORIES:EM Event
END:VEVENT
BEGIN:VEVENT
DTSTART;TZID=America/New_York:20170818T210000
DTEND;TZID=America/New_York:20170818T230000
DTSTAMP:20260422T084605
CREATED:20170803T191544Z
LAST-MODIFIED:20170803T191544Z
UID:14418-1503090000-1503097200@uo.com
SUMMARY:Siege Perilous - The Champion of Siege\, 2017
DESCRIPTION:Take a stick. No\, the big one over there -thaaat’s the one. Now\, see your friend over there? Currently looking out the window? Quietly sneak up behind him\, and whack him over the head with your stick. \nWhat do you mean\, you don’t want to?  What are you doing on Siege\, anyway? Wimp! \nThis weekend\, by popular request\, there will be a PvP tournament. \nThe rules are pretty simple: \n\nNo pets. Not even in the audience. There is a stable at the Bull Ring nearby if you need to stable your pets.\nNo tag-teaming.\nThis is one-on-one. No gank squads allowed. No zergs.\nSummons ARE allowed.\nNo audience “assistance”.\nCursing (medieval style)\, insults\, and the use of UO Curse (if you still have a copy)\, are mandatory.\nAny weapons\, potions\, spells\, and other gear is allowed. If you’ve got it\, flaunt it. This is an “anything goes” PvP tournament.\nWhen I say “anything goes” that does not include non-combatant PKing\, looting\, stealing\, or general disruption of the event. Those things will get you booted\, and no\, I won’t listen to whining in GC after you’ve been booted. This is your only warning.\n\nHow this works: \nBased on the poll I ran through July\, this event will start at 9 pm EST.  It will run until we have a champion. \nIf you can’t make it at that time\, or can only stay for an hour\, please don’t sign up. Rather come along and support from the audience. \nIf you can take part\, and want to\, please sign up below\, stating your character’s name.  I don’t need to know your skill-set\, but you are welcome to state it if you want to. \nI will put all names into a hat\, and draw them out in twos. That will form the basis for round one of the contest. \nIf you are not present when your name is called\, you forfeit the round\, and are out of the competition. Sorry. \nIf you have to leave – no matter how good a reason you have – you are out of the competition. Sorry. \nThe winners of round one will go back into the hat\, and be drawn out in twos. And so on\, and so on\, until last man (or woman!) standing. \nThat champion will get their name on a really nice trophy\, to be displayed at the EM Hall for a while\, and then on permanent display at the reward hall. \nOther things you need to know \nThis will take place outside of a guard zone. \nIt will take place in the arena of the Black Watch Barracks. If you haven’t seen this\, there is a gate to it outside the EM Hall in Britain.  This building is NOT in a guard zone. \nIf the building proves to be unsuitable for any reason\, we will relocate to one of the public arenas. \nGates will appear at the usual places\, an hour before the event. \nGood luck\, and may the best fighter (or the sneakiest) win! \n  \n 
URL:https://uo.com/event/siege-perilous-the-champion-of-siege-2017/
LOCATION:Siege Perilous
CATEGORIES:EM Event
END:VEVENT
END:VCALENDAR