BEGIN:VCALENDAR
VERSION:2.0
PRODID:-//Ultima Online - ECPv5.16.4.1//NONSGML v1.0//EN
CALSCALE:GREGORIAN
METHOD:PUBLISH
X-WR-CALNAME:Ultima Online
X-ORIGINAL-URL:https://uo.com
X-WR-CALDESC:Events for Ultima Online
BEGIN:VTIMEZONE
TZID:Asia/Tokyo
BEGIN:STANDARD
TZOFFSETFROM:+0900
TZOFFSETTO:+0900
TZNAME:JST
DTSTART:20170101T000000
END:STANDARD
TZID:America/New_York
BEGIN:DAYLIGHT
TZOFFSETFROM:-0500
TZOFFSETTO:-0400
TZNAME:EDT
DTSTART:20170312T070000
END:DAYLIGHT
BEGIN:STANDARD
TZOFFSETFROM:-0400
TZOFFSETTO:-0500
TZNAME:EST
DTSTART:20171105T060000
END:STANDARD
TZID:America/Los_Angeles
BEGIN:DAYLIGHT
TZOFFSETFROM:-0800
TZOFFSETTO:-0700
TZNAME:PDT
DTSTART:20170312T100000
END:DAYLIGHT
BEGIN:STANDARD
TZOFFSETFROM:-0700
TZOFFSETTO:-0800
TZNAME:PST
DTSTART:20171105T090000
END:STANDARD
TZID:Asia/Seoul
BEGIN:STANDARD
TZOFFSETFROM:+0900
TZOFFSETTO:+0900
TZNAME:KST
DTSTART:20170101T000000
END:STANDARD
END:VTIMEZONE
BEGIN:VEVENT
DTSTART;TZID=Asia/Tokyo:20170818T203000
DTEND;TZID=Asia/Tokyo:20170820T230000
DTSTAMP:20260422T084715
CREATED:20170708T131441Z
LAST-MODIFIED:20170813T061004Z
UID:14254-1503088200-1503270000@uo.com
SUMMARY:All Japanese Shards - 20th Anniversary Live Event Part 1
DESCRIPTION:Date & Time:\n————\n8/18 (Fri)\nWakoku / 21：00～\nMugen / 22：00～ \nﾟ・*:.｡..｡.:+・ﾟ・*:.｡..｡.:+・ﾟ・*:.｡..｡.:+・ﾟ \n8/19 (Sat)\nIzumo / 20：30～\nSakura / 21：15～\nMizuho / 22：00～ \nﾟ・*:.｡..｡.:+・ﾟ・*:.｡..｡.:+・ﾟ・*:.｡..｡.:+・ﾟ \n8/20 (Sun)\nAsuka / 20：30～\nYamato / 21：15～\nHokuto / 22：00～ \n  \n \nMeeting Place:\n————–\nMeet Mariah at Holy City\, Sextant location: 163o 55’N\, 24o 53′ W\nTake an EM gate from Royal City Moongate. \n  \n  \nRemarks:\n——–\nThe event will go through Blackthorn Castle. Please stable your pets until the role play character suggests you to claim. \n  \n 
URL:https://uo.com/event/tentative-all-japanese-shards-20th-anniversary-live-event/
CATEGORIES:EM Event
END:VEVENT
BEGIN:VEVENT
DTSTART;TZID=America/New_York:20170819T170000
DTEND;TZID=America/New_York:20170819T180000
DTSTAMP:20260422T084715
CREATED:20170803T191826Z
LAST-MODIFIED:20170803T191826Z
UID:14420-1503162000-1503165600@uo.com
SUMMARY:Siege Perilous - Siege Council Meeting
DESCRIPTION:
URL:https://uo.com/event/siege-perilous-siege-council-meeting-2/
LOCATION:Siege Perilous
CATEGORIES:EM Event
END:VEVENT
BEGIN:VEVENT
DTSTART;TZID=America/Los_Angeles:20170819T190000
DTEND;TZID=America/Los_Angeles:20170819T200000
DTSTAMP:20260422T084715
CREATED:20170811T063247Z
LAST-MODIFIED:20170811T063247Z
UID:14506-1503169200-1503172800@uo.com
SUMMARY:Pacific - Governor Meeting
DESCRIPTION:
URL:https://uo.com/event/pacific-governor-meeting/
CATEGORIES:EM Event
END:VEVENT
BEGIN:VEVENT
DTSTART;TZID=Asia/Seoul:20170819T200000
DTEND;TZID=Asia/Seoul:20170819T210000
DTSTAMP:20260422T084715
CREATED:20170808T115526Z
LAST-MODIFIED:20170808T115900Z
UID:14463-1503172800-1503176400@uo.com
SUMMARY:Arirang - King's Return
DESCRIPTION:Event Schedule \nDate/Time: August 19th\, 2017 08:00PM KST\nMeeting Place: Britain EM Hall \nEvent Story \nThe golem finally recovered all of its strength and memories. Enslaved gargoyles by Exodus built it\, and tried to use as a weapon against the Exodus. But their scheme has failed. Although the golem has failed to save its creator\, but it could save their race this time from the void invasion. Now the golem followed Naxatilor the Seer to city of gargoyles. \nCaution! \nWe’re expecting battle in this event\, please insure your precious items or leave them to your bank box. Event time is not that long so we’ll start it right in time. \nWarning \nIf anyone disrupt the event\, spamming\, insulting\, and harassing others or EM\, event will be stopped until the situation is handled. Please be advice that any inappropriate behavior will noted to your account\, and some of them can be fatal. EM will trying to hear your suggestion\, complain\, question\, and feedback willingly. Even though EM willing to hear and deal with the issue\, please note that there are some things that EM cannot deal with. \nEvent Chat Channel \nDuring the event\, we’ll use “Arirang EM Event” chat channel. To communicate with EM\, it is highly recommended to join the channel. EM will not take any responsibility for any penalties of information because of this.
URL:https://uo.com/event/em-event-kings-return/
LOCATION:Arirang
CATEGORIES:EM Event
END:VEVENT
END:VCALENDAR